BEGIN:VCALENDAR
VERSION:2.0
PRODID:-//St. John's Baptist Church - ECPv6.15.7//NONSGML v1.0//EN
CALSCALE:GREGORIAN
METHOD:PUBLISH
X-ORIGINAL-URL:https://stjohnsbaptistchurch.org
X-WR-CALDESC:Events for St. John's Baptist Church
REFRESH-INTERVAL;VALUE=DURATION:PT1H
X-Robots-Tag:noindex
X-PUBLISHED-TTL:PT1H
BEGIN:VTIMEZONE
TZID:America/New_York
BEGIN:DAYLIGHT
TZOFFSETFROM:-0500
TZOFFSETTO:-0400
TZNAME:EDT
DTSTART:20240310T070000
END:DAYLIGHT
BEGIN:STANDARD
TZOFFSETFROM:-0400
TZOFFSETTO:-0500
TZNAME:EST
DTSTART:20241103T060000
END:STANDARD
BEGIN:DAYLIGHT
TZOFFSETFROM:-0500
TZOFFSETTO:-0400
TZNAME:EDT
DTSTART:20250309T070000
END:DAYLIGHT
BEGIN:STANDARD
TZOFFSETFROM:-0400
TZOFFSETTO:-0500
TZNAME:EST
DTSTART:20251102T060000
END:STANDARD
BEGIN:DAYLIGHT
TZOFFSETFROM:-0500
TZOFFSETTO:-0400
TZNAME:EDT
DTSTART:20260308T070000
END:DAYLIGHT
BEGIN:STANDARD
TZOFFSETFROM:-0400
TZOFFSETTO:-0500
TZNAME:EST
DTSTART:20261101T060000
END:STANDARD
END:VTIMEZONE
BEGIN:VEVENT
DTSTART;TZID=America/New_York:20250123T173000
DTEND;TZID=America/New_York:20250123T183000
DTSTAMP:20260421T042649
CREATED:20241119T230623Z
LAST-MODIFIED:20241119T230623Z
UID:10011584-1737653400-1737657000@stjohnsbaptistchurch.org
SUMMARY:9-10 year old Boys Basketball Practice
DESCRIPTION:Barnhardt\, Thompson \nThursdays at 5:30pm
URL:https://stjohnsbaptistchurch.org/event/9-10-year-old-boys-basketball-practice-2/2025-01-23/
LOCATION:Gym
CATEGORIES:Basketball Games,Children,Main Calendar
ATTACH;FMTTYPE=image/png:https://stjohnsbaptistchurch.org/wp-content/uploads/2024/11/SJBC-Wordpress-Post-Images-5.png
END:VEVENT
BEGIN:VEVENT
DTSTART;TZID=America/New_York:20250123T183000
DTEND;TZID=America/New_York:20250123T193000
DTSTAMP:20260421T042649
CREATED:20241119T230507Z
LAST-MODIFIED:20241119T230507Z
UID:10011574-1737657000-1737660600@stjohnsbaptistchurch.org
SUMMARY:9-10 year old Boys Basketball Practice
DESCRIPTION:Short \nThursdays at 6:30pm
URL:https://stjohnsbaptistchurch.org/event/9-10-year-old-boys-basketball-practice/2025-01-23/
LOCATION:Gym
CATEGORIES:Basketball Games,Children,Main Calendar
ATTACH;FMTTYPE=image/png:https://stjohnsbaptistchurch.org/wp-content/uploads/2024/11/SJBC-Wordpress-Post-Images-5.png
END:VEVENT
END:VCALENDAR