BEGIN:VCALENDAR
VERSION:2.0
PRODID:-//St. John's Baptist Church - ECPv6.15.7//NONSGML v1.0//EN
CALSCALE:GREGORIAN
METHOD:PUBLISH
X-ORIGINAL-URL:https://stjohnsbaptistchurch.org
X-WR-CALDESC:Events for St. John's Baptist Church
REFRESH-INTERVAL;VALUE=DURATION:PT1H
X-Robots-Tag:noindex
X-PUBLISHED-TTL:PT1H
BEGIN:VTIMEZONE
TZID:America/New_York
BEGIN:DAYLIGHT
TZOFFSETFROM:-0500
TZOFFSETTO:-0400
TZNAME:EDT
DTSTART:20270314T070000
END:DAYLIGHT
BEGIN:STANDARD
TZOFFSETFROM:-0400
TZOFFSETTO:-0500
TZNAME:EST
DTSTART:20271107T060000
END:STANDARD
BEGIN:DAYLIGHT
TZOFFSETFROM:-0500
TZOFFSETTO:-0400
TZNAME:EDT
DTSTART:20280312T070000
END:DAYLIGHT
BEGIN:STANDARD
TZOFFSETFROM:-0400
TZOFFSETTO:-0500
TZNAME:EST
DTSTART:20281105T060000
END:STANDARD
BEGIN:DAYLIGHT
TZOFFSETFROM:-0500
TZOFFSETTO:-0400
TZNAME:EDT
DTSTART:20290311T070000
END:DAYLIGHT
BEGIN:STANDARD
TZOFFSETFROM:-0400
TZOFFSETTO:-0500
TZNAME:EST
DTSTART:20291104T060000
END:STANDARD
END:VTIMEZONE
BEGIN:VEVENT
DTSTART;TZID=America/New_York:20280120T080000
DTEND;TZID=America/New_York:20280120T143000
DTSTAMP:20260419T203830
CREATED:20250522T113122Z
LAST-MODIFIED:20250522T113122Z
UID:10012868-1831968000-1831991400@stjohnsbaptistchurch.org
SUMMARY:Weekday School
DESCRIPTION:
URL:https://stjohnsbaptistchurch.org/event/weekday-school/2028-01-20/
LOCATION:300 Hawthorne Lane
CATEGORIES:Children,Main Calendar,St. Johns Baptist (General) - Miscellaneous
ATTACH;FMTTYPE=image/jpeg:https://stjohnsbaptistchurch.org/wp-content/uploads/2024/04/default-featured-image.jpg
END:VEVENT
BEGIN:VEVENT
DTSTART;TZID=America/New_York:20280121T080000
DTEND;TZID=America/New_York:20280121T143000
DTSTAMP:20260419T203830
CREATED:20250522T113122Z
LAST-MODIFIED:20250522T113122Z
UID:10012869-1832054400-1832077800@stjohnsbaptistchurch.org
SUMMARY:Weekday School
DESCRIPTION:
URL:https://stjohnsbaptistchurch.org/event/weekday-school/2028-01-21/
LOCATION:300 Hawthorne Lane
CATEGORIES:Children,Main Calendar,St. Johns Baptist (General) - Miscellaneous
ATTACH;FMTTYPE=image/jpeg:https://stjohnsbaptistchurch.org/wp-content/uploads/2024/04/default-featured-image.jpg
END:VEVENT
BEGIN:VEVENT
DTSTART;TZID=America/New_York:20280123T091500
DTEND;TZID=America/New_York:20280123T103000
DTSTAMP:20260419T203830
CREATED:20240409T211604Z
LAST-MODIFIED:20240409T211604Z
UID:10007928-1832231700-1832236200@stjohnsbaptistchurch.org
SUMMARY:Children's Sunday School Groups
DESCRIPTION:We currently have three different age-divided Sunday school classes for our children at St. John’s. \n\nNursery (infant – toddler) – Room 219\nElementary (1st – 5th grades) – Room 221\nPreschool (3 – end of Kindergarten) – Room 223
URL:https://stjohnsbaptistchurch.org/event/childrens-sunday-school-groups/2028-01-23/
CATEGORIES:Children,Main Calendar,St. Johns Baptist (General) - Miscellaneous,Sunday Growth Groups
ATTACH;FMTTYPE=image/png:https://stjohnsbaptistchurch.org/wp-content/uploads/2024/04/SJ-Event-Featured-Images-Website-6.png
END:VEVENT
BEGIN:VEVENT
DTSTART;TZID=America/New_York:20280124T080000
DTEND;TZID=America/New_York:20280124T143000
DTSTAMP:20260419T203830
CREATED:20250522T113122Z
LAST-MODIFIED:20250522T113122Z
UID:10012870-1832313600-1832337000@stjohnsbaptistchurch.org
SUMMARY:Weekday School
DESCRIPTION:
URL:https://stjohnsbaptistchurch.org/event/weekday-school/2028-01-24/
LOCATION:300 Hawthorne Lane
CATEGORIES:Children,Main Calendar,St. Johns Baptist (General) - Miscellaneous
ATTACH;FMTTYPE=image/jpeg:https://stjohnsbaptistchurch.org/wp-content/uploads/2024/04/default-featured-image.jpg
END:VEVENT
BEGIN:VEVENT
DTSTART;TZID=America/New_York:20280125T080000
DTEND;TZID=America/New_York:20280125T143000
DTSTAMP:20260419T203830
CREATED:20250522T113122Z
LAST-MODIFIED:20250522T113122Z
UID:10012871-1832400000-1832423400@stjohnsbaptistchurch.org
SUMMARY:Weekday School
DESCRIPTION:
URL:https://stjohnsbaptistchurch.org/event/weekday-school/2028-01-25/
LOCATION:300 Hawthorne Lane
CATEGORIES:Children,Main Calendar,St. Johns Baptist (General) - Miscellaneous
ATTACH;FMTTYPE=image/jpeg:https://stjohnsbaptistchurch.org/wp-content/uploads/2024/04/default-featured-image.jpg
END:VEVENT
BEGIN:VEVENT
DTSTART;TZID=America/New_York:20280126T080000
DTEND;TZID=America/New_York:20280126T143000
DTSTAMP:20260419T203830
CREATED:20250522T113122Z
LAST-MODIFIED:20250522T113122Z
UID:10012872-1832486400-1832509800@stjohnsbaptistchurch.org
SUMMARY:Weekday School
DESCRIPTION:
URL:https://stjohnsbaptistchurch.org/event/weekday-school/2028-01-26/
LOCATION:300 Hawthorne Lane
CATEGORIES:Children,Main Calendar,St. Johns Baptist (General) - Miscellaneous
ATTACH;FMTTYPE=image/jpeg:https://stjohnsbaptistchurch.org/wp-content/uploads/2024/04/default-featured-image.jpg
END:VEVENT
BEGIN:VEVENT
DTSTART;TZID=America/New_York:20280127T080000
DTEND;TZID=America/New_York:20280127T143000
DTSTAMP:20260419T203830
CREATED:20250522T113122Z
LAST-MODIFIED:20250522T113122Z
UID:10012873-1832572800-1832596200@stjohnsbaptistchurch.org
SUMMARY:Weekday School
DESCRIPTION:
URL:https://stjohnsbaptistchurch.org/event/weekday-school/2028-01-27/
LOCATION:300 Hawthorne Lane
CATEGORIES:Children,Main Calendar,St. Johns Baptist (General) - Miscellaneous
ATTACH;FMTTYPE=image/jpeg:https://stjohnsbaptistchurch.org/wp-content/uploads/2024/04/default-featured-image.jpg
END:VEVENT
BEGIN:VEVENT
DTSTART;TZID=America/New_York:20280128T080000
DTEND;TZID=America/New_York:20280128T143000
DTSTAMP:20260419T203831
CREATED:20250522T113122Z
LAST-MODIFIED:20250522T113122Z
UID:10012874-1832659200-1832682600@stjohnsbaptistchurch.org
SUMMARY:Weekday School
DESCRIPTION:
URL:https://stjohnsbaptistchurch.org/event/weekday-school/2028-01-28/
LOCATION:300 Hawthorne Lane
CATEGORIES:Children,Main Calendar,St. Johns Baptist (General) - Miscellaneous
ATTACH;FMTTYPE=image/jpeg:https://stjohnsbaptistchurch.org/wp-content/uploads/2024/04/default-featured-image.jpg
END:VEVENT
BEGIN:VEVENT
DTSTART;TZID=America/New_York:20280130T091500
DTEND;TZID=America/New_York:20280130T103000
DTSTAMP:20260419T203831
CREATED:20240409T211604Z
LAST-MODIFIED:20240409T211604Z
UID:10007929-1832836500-1832841000@stjohnsbaptistchurch.org
SUMMARY:Children's Sunday School Groups
DESCRIPTION:We currently have three different age-divided Sunday school classes for our children at St. John’s. \n\nNursery (infant – toddler) – Room 219\nElementary (1st – 5th grades) – Room 221\nPreschool (3 – end of Kindergarten) – Room 223
URL:https://stjohnsbaptistchurch.org/event/childrens-sunday-school-groups/2028-01-30/
CATEGORIES:Children,Main Calendar,St. Johns Baptist (General) - Miscellaneous,Sunday Growth Groups
ATTACH;FMTTYPE=image/png:https://stjohnsbaptistchurch.org/wp-content/uploads/2024/04/SJ-Event-Featured-Images-Website-6.png
END:VEVENT
BEGIN:VEVENT
DTSTART;TZID=America/New_York:20280131T080000
DTEND;TZID=America/New_York:20280131T143000
DTSTAMP:20260419T203831
CREATED:20250522T113122Z
LAST-MODIFIED:20250522T113122Z
UID:10012875-1832918400-1832941800@stjohnsbaptistchurch.org
SUMMARY:Weekday School
DESCRIPTION:
URL:https://stjohnsbaptistchurch.org/event/weekday-school/2028-01-31/
LOCATION:300 Hawthorne Lane
CATEGORIES:Children,Main Calendar,St. Johns Baptist (General) - Miscellaneous
ATTACH;FMTTYPE=image/jpeg:https://stjohnsbaptistchurch.org/wp-content/uploads/2024/04/default-featured-image.jpg
END:VEVENT
BEGIN:VEVENT
DTSTART;TZID=America/New_York:20280201T080000
DTEND;TZID=America/New_York:20280201T143000
DTSTAMP:20260419T203831
CREATED:20250522T113122Z
LAST-MODIFIED:20250522T113122Z
UID:10012876-1833004800-1833028200@stjohnsbaptistchurch.org
SUMMARY:Weekday School
DESCRIPTION:
URL:https://stjohnsbaptistchurch.org/event/weekday-school/2028-02-01/
LOCATION:300 Hawthorne Lane
CATEGORIES:Children,Main Calendar,St. Johns Baptist (General) - Miscellaneous
ATTACH;FMTTYPE=image/jpeg:https://stjohnsbaptistchurch.org/wp-content/uploads/2024/04/default-featured-image.jpg
END:VEVENT
BEGIN:VEVENT
DTSTART;TZID=America/New_York:20280202T080000
DTEND;TZID=America/New_York:20280202T143000
DTSTAMP:20260419T203831
CREATED:20250522T113122Z
LAST-MODIFIED:20250522T113122Z
UID:10012877-1833091200-1833114600@stjohnsbaptistchurch.org
SUMMARY:Weekday School
DESCRIPTION:
URL:https://stjohnsbaptistchurch.org/event/weekday-school/2028-02-02/
LOCATION:300 Hawthorne Lane
CATEGORIES:Children,Main Calendar,St. Johns Baptist (General) - Miscellaneous
ATTACH;FMTTYPE=image/jpeg:https://stjohnsbaptistchurch.org/wp-content/uploads/2024/04/default-featured-image.jpg
END:VEVENT
BEGIN:VEVENT
DTSTART;TZID=America/New_York:20280203T080000
DTEND;TZID=America/New_York:20280203T143000
DTSTAMP:20260419T203831
CREATED:20250522T113122Z
LAST-MODIFIED:20250522T113122Z
UID:10012878-1833177600-1833201000@stjohnsbaptistchurch.org
SUMMARY:Weekday School
DESCRIPTION:
URL:https://stjohnsbaptistchurch.org/event/weekday-school/2028-02-03/
LOCATION:300 Hawthorne Lane
CATEGORIES:Children,Main Calendar,St. Johns Baptist (General) - Miscellaneous
ATTACH;FMTTYPE=image/jpeg:https://stjohnsbaptistchurch.org/wp-content/uploads/2024/04/default-featured-image.jpg
END:VEVENT
BEGIN:VEVENT
DTSTART;TZID=America/New_York:20280204T080000
DTEND;TZID=America/New_York:20280204T143000
DTSTAMP:20260419T203831
CREATED:20250522T113122Z
LAST-MODIFIED:20250522T113122Z
UID:10012879-1833264000-1833287400@stjohnsbaptistchurch.org
SUMMARY:Weekday School
DESCRIPTION:
URL:https://stjohnsbaptistchurch.org/event/weekday-school/2028-02-04/
LOCATION:300 Hawthorne Lane
CATEGORIES:Children,Main Calendar,St. Johns Baptist (General) - Miscellaneous
ATTACH;FMTTYPE=image/jpeg:https://stjohnsbaptistchurch.org/wp-content/uploads/2024/04/default-featured-image.jpg
END:VEVENT
BEGIN:VEVENT
DTSTART;TZID=America/New_York:20280206T091500
DTEND;TZID=America/New_York:20280206T103000
DTSTAMP:20260419T203831
CREATED:20240409T211604Z
LAST-MODIFIED:20240409T211604Z
UID:10007930-1833441300-1833445800@stjohnsbaptistchurch.org
SUMMARY:Children's Sunday School Groups
DESCRIPTION:We currently have three different age-divided Sunday school classes for our children at St. John’s. \n\nNursery (infant – toddler) – Room 219\nElementary (1st – 5th grades) – Room 221\nPreschool (3 – end of Kindergarten) – Room 223
URL:https://stjohnsbaptistchurch.org/event/childrens-sunday-school-groups/2028-02-06/
CATEGORIES:Children,Main Calendar,St. Johns Baptist (General) - Miscellaneous,Sunday Growth Groups
ATTACH;FMTTYPE=image/png:https://stjohnsbaptistchurch.org/wp-content/uploads/2024/04/SJ-Event-Featured-Images-Website-6.png
END:VEVENT
BEGIN:VEVENT
DTSTART;TZID=America/New_York:20280207T080000
DTEND;TZID=America/New_York:20280207T143000
DTSTAMP:20260419T203831
CREATED:20250522T113122Z
LAST-MODIFIED:20250522T113122Z
UID:10012880-1833523200-1833546600@stjohnsbaptistchurch.org
SUMMARY:Weekday School
DESCRIPTION:
URL:https://stjohnsbaptistchurch.org/event/weekday-school/2028-02-07/
LOCATION:300 Hawthorne Lane
CATEGORIES:Children,Main Calendar,St. Johns Baptist (General) - Miscellaneous
ATTACH;FMTTYPE=image/jpeg:https://stjohnsbaptistchurch.org/wp-content/uploads/2024/04/default-featured-image.jpg
END:VEVENT
BEGIN:VEVENT
DTSTART;TZID=America/New_York:20280208T080000
DTEND;TZID=America/New_York:20280208T143000
DTSTAMP:20260419T203831
CREATED:20250522T113122Z
LAST-MODIFIED:20250522T113122Z
UID:10012881-1833609600-1833633000@stjohnsbaptistchurch.org
SUMMARY:Weekday School
DESCRIPTION:
URL:https://stjohnsbaptistchurch.org/event/weekday-school/2028-02-08/
LOCATION:300 Hawthorne Lane
CATEGORIES:Children,Main Calendar,St. Johns Baptist (General) - Miscellaneous
ATTACH;FMTTYPE=image/jpeg:https://stjohnsbaptistchurch.org/wp-content/uploads/2024/04/default-featured-image.jpg
END:VEVENT
BEGIN:VEVENT
DTSTART;TZID=America/New_York:20280209T080000
DTEND;TZID=America/New_York:20280209T143000
DTSTAMP:20260419T203831
CREATED:20250522T113122Z
LAST-MODIFIED:20250522T113122Z
UID:10012882-1833696000-1833719400@stjohnsbaptistchurch.org
SUMMARY:Weekday School
DESCRIPTION:
URL:https://stjohnsbaptistchurch.org/event/weekday-school/2028-02-09/
LOCATION:300 Hawthorne Lane
CATEGORIES:Children,Main Calendar,St. Johns Baptist (General) - Miscellaneous
ATTACH;FMTTYPE=image/jpeg:https://stjohnsbaptistchurch.org/wp-content/uploads/2024/04/default-featured-image.jpg
END:VEVENT
BEGIN:VEVENT
DTSTART;TZID=America/New_York:20280210T080000
DTEND;TZID=America/New_York:20280210T143000
DTSTAMP:20260419T203831
CREATED:20250522T113122Z
LAST-MODIFIED:20250522T113122Z
UID:10012883-1833782400-1833805800@stjohnsbaptistchurch.org
SUMMARY:Weekday School
DESCRIPTION:
URL:https://stjohnsbaptistchurch.org/event/weekday-school/2028-02-10/
LOCATION:300 Hawthorne Lane
CATEGORIES:Children,Main Calendar,St. Johns Baptist (General) - Miscellaneous
ATTACH;FMTTYPE=image/jpeg:https://stjohnsbaptistchurch.org/wp-content/uploads/2024/04/default-featured-image.jpg
END:VEVENT
BEGIN:VEVENT
DTSTART;TZID=America/New_York:20280211T080000
DTEND;TZID=America/New_York:20280211T143000
DTSTAMP:20260419T203831
CREATED:20250522T113122Z
LAST-MODIFIED:20250522T113122Z
UID:10012884-1833868800-1833892200@stjohnsbaptistchurch.org
SUMMARY:Weekday School
DESCRIPTION:
URL:https://stjohnsbaptistchurch.org/event/weekday-school/2028-02-11/
LOCATION:300 Hawthorne Lane
CATEGORIES:Children,Main Calendar,St. Johns Baptist (General) - Miscellaneous
ATTACH;FMTTYPE=image/jpeg:https://stjohnsbaptistchurch.org/wp-content/uploads/2024/04/default-featured-image.jpg
END:VEVENT
BEGIN:VEVENT
DTSTART;TZID=America/New_York:20280213T091500
DTEND;TZID=America/New_York:20280213T103000
DTSTAMP:20260419T203831
CREATED:20240409T211604Z
LAST-MODIFIED:20240409T211604Z
UID:10007931-1834046100-1834050600@stjohnsbaptistchurch.org
SUMMARY:Children's Sunday School Groups
DESCRIPTION:We currently have three different age-divided Sunday school classes for our children at St. John’s. \n\nNursery (infant – toddler) – Room 219\nElementary (1st – 5th grades) – Room 221\nPreschool (3 – end of Kindergarten) – Room 223
URL:https://stjohnsbaptistchurch.org/event/childrens-sunday-school-groups/2028-02-13/
CATEGORIES:Children,Main Calendar,St. Johns Baptist (General) - Miscellaneous,Sunday Growth Groups
ATTACH;FMTTYPE=image/png:https://stjohnsbaptistchurch.org/wp-content/uploads/2024/04/SJ-Event-Featured-Images-Website-6.png
END:VEVENT
BEGIN:VEVENT
DTSTART;TZID=America/New_York:20280214T080000
DTEND;TZID=America/New_York:20280214T143000
DTSTAMP:20260419T203831
CREATED:20250522T113122Z
LAST-MODIFIED:20250522T113122Z
UID:10012885-1834128000-1834151400@stjohnsbaptistchurch.org
SUMMARY:Weekday School
DESCRIPTION:
URL:https://stjohnsbaptistchurch.org/event/weekday-school/2028-02-14/
LOCATION:300 Hawthorne Lane
CATEGORIES:Children,Main Calendar,St. Johns Baptist (General) - Miscellaneous
ATTACH;FMTTYPE=image/jpeg:https://stjohnsbaptistchurch.org/wp-content/uploads/2024/04/default-featured-image.jpg
END:VEVENT
BEGIN:VEVENT
DTSTART;TZID=America/New_York:20280215T080000
DTEND;TZID=America/New_York:20280215T143000
DTSTAMP:20260419T203831
CREATED:20250522T113122Z
LAST-MODIFIED:20250522T113122Z
UID:10012886-1834214400-1834237800@stjohnsbaptistchurch.org
SUMMARY:Weekday School
DESCRIPTION:
URL:https://stjohnsbaptistchurch.org/event/weekday-school/2028-02-15/
LOCATION:300 Hawthorne Lane
CATEGORIES:Children,Main Calendar,St. Johns Baptist (General) - Miscellaneous
ATTACH;FMTTYPE=image/jpeg:https://stjohnsbaptistchurch.org/wp-content/uploads/2024/04/default-featured-image.jpg
END:VEVENT
BEGIN:VEVENT
DTSTART;TZID=America/New_York:20280216T080000
DTEND;TZID=America/New_York:20280216T143000
DTSTAMP:20260419T203831
CREATED:20250522T113122Z
LAST-MODIFIED:20250522T113122Z
UID:10012887-1834300800-1834324200@stjohnsbaptistchurch.org
SUMMARY:Weekday School
DESCRIPTION:
URL:https://stjohnsbaptistchurch.org/event/weekday-school/2028-02-16/
LOCATION:300 Hawthorne Lane
CATEGORIES:Children,Main Calendar,St. Johns Baptist (General) - Miscellaneous
ATTACH;FMTTYPE=image/jpeg:https://stjohnsbaptistchurch.org/wp-content/uploads/2024/04/default-featured-image.jpg
END:VEVENT
BEGIN:VEVENT
DTSTART;TZID=America/New_York:20280217T080000
DTEND;TZID=America/New_York:20280217T143000
DTSTAMP:20260419T203831
CREATED:20250522T113122Z
LAST-MODIFIED:20250522T113122Z
UID:10012888-1834387200-1834410600@stjohnsbaptistchurch.org
SUMMARY:Weekday School
DESCRIPTION:
URL:https://stjohnsbaptistchurch.org/event/weekday-school/2028-02-17/
LOCATION:300 Hawthorne Lane
CATEGORIES:Children,Main Calendar,St. Johns Baptist (General) - Miscellaneous
ATTACH;FMTTYPE=image/jpeg:https://stjohnsbaptistchurch.org/wp-content/uploads/2024/04/default-featured-image.jpg
END:VEVENT
BEGIN:VEVENT
DTSTART;TZID=America/New_York:20280218T080000
DTEND;TZID=America/New_York:20280218T143000
DTSTAMP:20260419T203831
CREATED:20250522T113122Z
LAST-MODIFIED:20250522T113122Z
UID:10012889-1834473600-1834497000@stjohnsbaptistchurch.org
SUMMARY:Weekday School
DESCRIPTION:
URL:https://stjohnsbaptistchurch.org/event/weekday-school/2028-02-18/
LOCATION:300 Hawthorne Lane
CATEGORIES:Children,Main Calendar,St. Johns Baptist (General) - Miscellaneous
ATTACH;FMTTYPE=image/jpeg:https://stjohnsbaptistchurch.org/wp-content/uploads/2024/04/default-featured-image.jpg
END:VEVENT
BEGIN:VEVENT
DTSTART;TZID=America/New_York:20280220T091500
DTEND;TZID=America/New_York:20280220T103000
DTSTAMP:20260419T203831
CREATED:20240409T211604Z
LAST-MODIFIED:20240409T211604Z
UID:10007932-1834650900-1834655400@stjohnsbaptistchurch.org
SUMMARY:Children's Sunday School Groups
DESCRIPTION:We currently have three different age-divided Sunday school classes for our children at St. John’s. \n\nNursery (infant – toddler) – Room 219\nElementary (1st – 5th grades) – Room 221\nPreschool (3 – end of Kindergarten) – Room 223
URL:https://stjohnsbaptistchurch.org/event/childrens-sunday-school-groups/2028-02-20/
CATEGORIES:Children,Main Calendar,St. Johns Baptist (General) - Miscellaneous,Sunday Growth Groups
ATTACH;FMTTYPE=image/png:https://stjohnsbaptistchurch.org/wp-content/uploads/2024/04/SJ-Event-Featured-Images-Website-6.png
END:VEVENT
BEGIN:VEVENT
DTSTART;TZID=America/New_York:20280221T080000
DTEND;TZID=America/New_York:20280221T143000
DTSTAMP:20260419T203831
CREATED:20250522T113122Z
LAST-MODIFIED:20250522T113122Z
UID:10012890-1834732800-1834756200@stjohnsbaptistchurch.org
SUMMARY:Weekday School
DESCRIPTION:
URL:https://stjohnsbaptistchurch.org/event/weekday-school/2028-02-21/
LOCATION:300 Hawthorne Lane
CATEGORIES:Children,Main Calendar,St. Johns Baptist (General) - Miscellaneous
ATTACH;FMTTYPE=image/jpeg:https://stjohnsbaptistchurch.org/wp-content/uploads/2024/04/default-featured-image.jpg
END:VEVENT
BEGIN:VEVENT
DTSTART;TZID=America/New_York:20280222T080000
DTEND;TZID=America/New_York:20280222T143000
DTSTAMP:20260419T203831
CREATED:20250522T113122Z
LAST-MODIFIED:20250522T113122Z
UID:10012891-1834819200-1834842600@stjohnsbaptistchurch.org
SUMMARY:Weekday School
DESCRIPTION:
URL:https://stjohnsbaptistchurch.org/event/weekday-school/2028-02-22/
LOCATION:300 Hawthorne Lane
CATEGORIES:Children,Main Calendar,St. Johns Baptist (General) - Miscellaneous
ATTACH;FMTTYPE=image/jpeg:https://stjohnsbaptistchurch.org/wp-content/uploads/2024/04/default-featured-image.jpg
END:VEVENT
BEGIN:VEVENT
DTSTART;TZID=America/New_York:20280223T080000
DTEND;TZID=America/New_York:20280223T143000
DTSTAMP:20260419T203831
CREATED:20250522T113122Z
LAST-MODIFIED:20250522T113122Z
UID:10012892-1834905600-1834929000@stjohnsbaptistchurch.org
SUMMARY:Weekday School
DESCRIPTION:
URL:https://stjohnsbaptistchurch.org/event/weekday-school/2028-02-23/
LOCATION:300 Hawthorne Lane
CATEGORIES:Children,Main Calendar,St. Johns Baptist (General) - Miscellaneous
ATTACH;FMTTYPE=image/jpeg:https://stjohnsbaptistchurch.org/wp-content/uploads/2024/04/default-featured-image.jpg
END:VEVENT
END:VCALENDAR