BEGIN:VCALENDAR
VERSION:2.0
PRODID:-//St. John's Baptist Church - ECPv6.15.7//NONSGML v1.0//EN
CALSCALE:GREGORIAN
METHOD:PUBLISH
X-ORIGINAL-URL:https://stjohnsbaptistchurch.org
X-WR-CALDESC:Events for St. John's Baptist Church
REFRESH-INTERVAL;VALUE=DURATION:PT1H
X-Robots-Tag:noindex
X-PUBLISHED-TTL:PT1H
BEGIN:VTIMEZONE
TZID:America/New_York
BEGIN:DAYLIGHT
TZOFFSETFROM:-0500
TZOFFSETTO:-0400
TZNAME:EDT
DTSTART:20270314T070000
END:DAYLIGHT
BEGIN:STANDARD
TZOFFSETFROM:-0400
TZOFFSETTO:-0500
TZNAME:EST
DTSTART:20271107T060000
END:STANDARD
BEGIN:DAYLIGHT
TZOFFSETFROM:-0500
TZOFFSETTO:-0400
TZNAME:EDT
DTSTART:20280312T070000
END:DAYLIGHT
BEGIN:STANDARD
TZOFFSETFROM:-0400
TZOFFSETTO:-0500
TZNAME:EST
DTSTART:20281105T060000
END:STANDARD
BEGIN:DAYLIGHT
TZOFFSETFROM:-0500
TZOFFSETTO:-0400
TZNAME:EDT
DTSTART:20290311T070000
END:DAYLIGHT
BEGIN:STANDARD
TZOFFSETFROM:-0400
TZOFFSETTO:-0500
TZNAME:EST
DTSTART:20291104T060000
END:STANDARD
END:VTIMEZONE
BEGIN:VEVENT
DTSTART;TZID=America/New_York:20280307T080000
DTEND;TZID=America/New_York:20280307T143000
DTSTAMP:20260420T010418
CREATED:20250522T113122Z
LAST-MODIFIED:20250522T113122Z
UID:10012901-1836028800-1836052200@stjohnsbaptistchurch.org
SUMMARY:Weekday School
DESCRIPTION:
URL:https://stjohnsbaptistchurch.org/event/weekday-school/2028-03-07/
LOCATION:300 Hawthorne Lane
CATEGORIES:Children,Main Calendar,St. Johns Baptist (General) - Miscellaneous
ATTACH;FMTTYPE=image/jpeg:https://stjohnsbaptistchurch.org/wp-content/uploads/2024/04/default-featured-image.jpg
END:VEVENT
BEGIN:VEVENT
DTSTART;TZID=America/New_York:20280308T080000
DTEND;TZID=America/New_York:20280308T143000
DTSTAMP:20260420T010418
CREATED:20250522T113122Z
LAST-MODIFIED:20250522T113122Z
UID:10012902-1836115200-1836138600@stjohnsbaptistchurch.org
SUMMARY:Weekday School
DESCRIPTION:
URL:https://stjohnsbaptistchurch.org/event/weekday-school/2028-03-08/
LOCATION:300 Hawthorne Lane
CATEGORIES:Children,Main Calendar,St. Johns Baptist (General) - Miscellaneous
ATTACH;FMTTYPE=image/jpeg:https://stjohnsbaptistchurch.org/wp-content/uploads/2024/04/default-featured-image.jpg
END:VEVENT
BEGIN:VEVENT
DTSTART;TZID=America/New_York:20280309T080000
DTEND;TZID=America/New_York:20280309T143000
DTSTAMP:20260420T010418
CREATED:20250522T113122Z
LAST-MODIFIED:20250522T113122Z
UID:10012903-1836201600-1836225000@stjohnsbaptistchurch.org
SUMMARY:Weekday School
DESCRIPTION:
URL:https://stjohnsbaptistchurch.org/event/weekday-school/2028-03-09/
LOCATION:300 Hawthorne Lane
CATEGORIES:Children,Main Calendar,St. Johns Baptist (General) - Miscellaneous
ATTACH;FMTTYPE=image/jpeg:https://stjohnsbaptistchurch.org/wp-content/uploads/2024/04/default-featured-image.jpg
END:VEVENT
BEGIN:VEVENT
DTSTART;TZID=America/New_York:20280310T080000
DTEND;TZID=America/New_York:20280310T143000
DTSTAMP:20260420T010418
CREATED:20250522T113122Z
LAST-MODIFIED:20250522T113122Z
UID:10012904-1836288000-1836311400@stjohnsbaptistchurch.org
SUMMARY:Weekday School
DESCRIPTION:
URL:https://stjohnsbaptistchurch.org/event/weekday-school/2028-03-10/
LOCATION:300 Hawthorne Lane
CATEGORIES:Children,Main Calendar,St. Johns Baptist (General) - Miscellaneous
ATTACH;FMTTYPE=image/jpeg:https://stjohnsbaptistchurch.org/wp-content/uploads/2024/04/default-featured-image.jpg
END:VEVENT
BEGIN:VEVENT
DTSTART;TZID=America/New_York:20280312T091500
DTEND;TZID=America/New_York:20280312T103000
DTSTAMP:20260420T010418
CREATED:20240409T211604Z
LAST-MODIFIED:20240409T211604Z
UID:10007935-1836465300-1836469800@stjohnsbaptistchurch.org
SUMMARY:Children's Sunday School Groups
DESCRIPTION:We currently have three different age-divided Sunday school classes for our children at St. John’s. \n\nNursery (infant – toddler) – Room 219\nElementary (1st – 5th grades) – Room 221\nPreschool (3 – end of Kindergarten) – Room 223
URL:https://stjohnsbaptistchurch.org/event/childrens-sunday-school-groups/2028-03-12/
CATEGORIES:Children,Main Calendar,St. Johns Baptist (General) - Miscellaneous,Sunday Growth Groups
ATTACH;FMTTYPE=image/png:https://stjohnsbaptistchurch.org/wp-content/uploads/2024/04/SJ-Event-Featured-Images-Website-6.png
END:VEVENT
BEGIN:VEVENT
DTSTART;TZID=America/New_York:20280313T080000
DTEND;TZID=America/New_York:20280313T143000
DTSTAMP:20260420T010418
CREATED:20250522T113122Z
LAST-MODIFIED:20250522T113122Z
UID:10012905-1836547200-1836570600@stjohnsbaptistchurch.org
SUMMARY:Weekday School
DESCRIPTION:
URL:https://stjohnsbaptistchurch.org/event/weekday-school/2028-03-13/
LOCATION:300 Hawthorne Lane
CATEGORIES:Children,Main Calendar,St. Johns Baptist (General) - Miscellaneous
ATTACH;FMTTYPE=image/jpeg:https://stjohnsbaptistchurch.org/wp-content/uploads/2024/04/default-featured-image.jpg
END:VEVENT
BEGIN:VEVENT
DTSTART;TZID=America/New_York:20280314T080000
DTEND;TZID=America/New_York:20280314T143000
DTSTAMP:20260420T010418
CREATED:20250522T113122Z
LAST-MODIFIED:20250522T113122Z
UID:10012906-1836633600-1836657000@stjohnsbaptistchurch.org
SUMMARY:Weekday School
DESCRIPTION:
URL:https://stjohnsbaptistchurch.org/event/weekday-school/2028-03-14/
LOCATION:300 Hawthorne Lane
CATEGORIES:Children,Main Calendar,St. Johns Baptist (General) - Miscellaneous
ATTACH;FMTTYPE=image/jpeg:https://stjohnsbaptistchurch.org/wp-content/uploads/2024/04/default-featured-image.jpg
END:VEVENT
BEGIN:VEVENT
DTSTART;TZID=America/New_York:20280315T080000
DTEND;TZID=America/New_York:20280315T143000
DTSTAMP:20260420T010418
CREATED:20250522T113122Z
LAST-MODIFIED:20250522T113122Z
UID:10012907-1836720000-1836743400@stjohnsbaptistchurch.org
SUMMARY:Weekday School
DESCRIPTION:
URL:https://stjohnsbaptistchurch.org/event/weekday-school/2028-03-15/
LOCATION:300 Hawthorne Lane
CATEGORIES:Children,Main Calendar,St. Johns Baptist (General) - Miscellaneous
ATTACH;FMTTYPE=image/jpeg:https://stjohnsbaptistchurch.org/wp-content/uploads/2024/04/default-featured-image.jpg
END:VEVENT
BEGIN:VEVENT
DTSTART;TZID=America/New_York:20280316T080000
DTEND;TZID=America/New_York:20280316T143000
DTSTAMP:20260420T010418
CREATED:20250522T113122Z
LAST-MODIFIED:20250522T113122Z
UID:10012908-1836806400-1836829800@stjohnsbaptistchurch.org
SUMMARY:Weekday School
DESCRIPTION:
URL:https://stjohnsbaptistchurch.org/event/weekday-school/2028-03-16/
LOCATION:300 Hawthorne Lane
CATEGORIES:Children,Main Calendar,St. Johns Baptist (General) - Miscellaneous
ATTACH;FMTTYPE=image/jpeg:https://stjohnsbaptistchurch.org/wp-content/uploads/2024/04/default-featured-image.jpg
END:VEVENT
BEGIN:VEVENT
DTSTART;TZID=America/New_York:20280317T080000
DTEND;TZID=America/New_York:20280317T143000
DTSTAMP:20260420T010418
CREATED:20250522T113122Z
LAST-MODIFIED:20250522T113122Z
UID:10012909-1836892800-1836916200@stjohnsbaptistchurch.org
SUMMARY:Weekday School
DESCRIPTION:
URL:https://stjohnsbaptistchurch.org/event/weekday-school/2028-03-17/
LOCATION:300 Hawthorne Lane
CATEGORIES:Children,Main Calendar,St. Johns Baptist (General) - Miscellaneous
ATTACH;FMTTYPE=image/jpeg:https://stjohnsbaptistchurch.org/wp-content/uploads/2024/04/default-featured-image.jpg
END:VEVENT
BEGIN:VEVENT
DTSTART;TZID=America/New_York:20280319T091500
DTEND;TZID=America/New_York:20280319T103000
DTSTAMP:20260420T010418
CREATED:20240409T211604Z
LAST-MODIFIED:20240409T211604Z
UID:10007936-1837070100-1837074600@stjohnsbaptistchurch.org
SUMMARY:Children's Sunday School Groups
DESCRIPTION:We currently have three different age-divided Sunday school classes for our children at St. John’s. \n\nNursery (infant – toddler) – Room 219\nElementary (1st – 5th grades) – Room 221\nPreschool (3 – end of Kindergarten) – Room 223
URL:https://stjohnsbaptistchurch.org/event/childrens-sunday-school-groups/2028-03-19/
CATEGORIES:Children,Main Calendar,St. Johns Baptist (General) - Miscellaneous,Sunday Growth Groups
ATTACH;FMTTYPE=image/png:https://stjohnsbaptistchurch.org/wp-content/uploads/2024/04/SJ-Event-Featured-Images-Website-6.png
END:VEVENT
BEGIN:VEVENT
DTSTART;TZID=America/New_York:20280320T080000
DTEND;TZID=America/New_York:20280320T143000
DTSTAMP:20260420T010418
CREATED:20250522T113122Z
LAST-MODIFIED:20250522T113122Z
UID:10012910-1837152000-1837175400@stjohnsbaptistchurch.org
SUMMARY:Weekday School
DESCRIPTION:
URL:https://stjohnsbaptistchurch.org/event/weekday-school/2028-03-20/
LOCATION:300 Hawthorne Lane
CATEGORIES:Children,Main Calendar,St. Johns Baptist (General) - Miscellaneous
ATTACH;FMTTYPE=image/jpeg:https://stjohnsbaptistchurch.org/wp-content/uploads/2024/04/default-featured-image.jpg
END:VEVENT
BEGIN:VEVENT
DTSTART;TZID=America/New_York:20280321T080000
DTEND;TZID=America/New_York:20280321T143000
DTSTAMP:20260420T010418
CREATED:20250522T113122Z
LAST-MODIFIED:20250522T113122Z
UID:10012911-1837238400-1837261800@stjohnsbaptistchurch.org
SUMMARY:Weekday School
DESCRIPTION:
URL:https://stjohnsbaptistchurch.org/event/weekday-school/2028-03-21/
LOCATION:300 Hawthorne Lane
CATEGORIES:Children,Main Calendar,St. Johns Baptist (General) - Miscellaneous
ATTACH;FMTTYPE=image/jpeg:https://stjohnsbaptistchurch.org/wp-content/uploads/2024/04/default-featured-image.jpg
END:VEVENT
BEGIN:VEVENT
DTSTART;TZID=America/New_York:20280322T080000
DTEND;TZID=America/New_York:20280322T143000
DTSTAMP:20260420T010418
CREATED:20250522T113122Z
LAST-MODIFIED:20250522T113122Z
UID:10012912-1837324800-1837348200@stjohnsbaptistchurch.org
SUMMARY:Weekday School
DESCRIPTION:
URL:https://stjohnsbaptistchurch.org/event/weekday-school/2028-03-22/
LOCATION:300 Hawthorne Lane
CATEGORIES:Children,Main Calendar,St. Johns Baptist (General) - Miscellaneous
ATTACH;FMTTYPE=image/jpeg:https://stjohnsbaptistchurch.org/wp-content/uploads/2024/04/default-featured-image.jpg
END:VEVENT
BEGIN:VEVENT
DTSTART;TZID=America/New_York:20280323T080000
DTEND;TZID=America/New_York:20280323T143000
DTSTAMP:20260420T010418
CREATED:20250522T113122Z
LAST-MODIFIED:20250522T113122Z
UID:10012913-1837411200-1837434600@stjohnsbaptistchurch.org
SUMMARY:Weekday School
DESCRIPTION:
URL:https://stjohnsbaptistchurch.org/event/weekday-school/2028-03-23/
LOCATION:300 Hawthorne Lane
CATEGORIES:Children,Main Calendar,St. Johns Baptist (General) - Miscellaneous
ATTACH;FMTTYPE=image/jpeg:https://stjohnsbaptistchurch.org/wp-content/uploads/2024/04/default-featured-image.jpg
END:VEVENT
BEGIN:VEVENT
DTSTART;TZID=America/New_York:20280324T080000
DTEND;TZID=America/New_York:20280324T143000
DTSTAMP:20260420T010418
CREATED:20250522T113122Z
LAST-MODIFIED:20250522T113122Z
UID:10012914-1837497600-1837521000@stjohnsbaptistchurch.org
SUMMARY:Weekday School
DESCRIPTION:
URL:https://stjohnsbaptistchurch.org/event/weekday-school/2028-03-24/
LOCATION:300 Hawthorne Lane
CATEGORIES:Children,Main Calendar,St. Johns Baptist (General) - Miscellaneous
ATTACH;FMTTYPE=image/jpeg:https://stjohnsbaptistchurch.org/wp-content/uploads/2024/04/default-featured-image.jpg
END:VEVENT
BEGIN:VEVENT
DTSTART;TZID=America/New_York:20280326T091500
DTEND;TZID=America/New_York:20280326T103000
DTSTAMP:20260420T010418
CREATED:20240409T211604Z
LAST-MODIFIED:20240409T211604Z
UID:10007937-1837674900-1837679400@stjohnsbaptistchurch.org
SUMMARY:Children's Sunday School Groups
DESCRIPTION:We currently have three different age-divided Sunday school classes for our children at St. John’s. \n\nNursery (infant – toddler) – Room 219\nElementary (1st – 5th grades) – Room 221\nPreschool (3 – end of Kindergarten) – Room 223
URL:https://stjohnsbaptistchurch.org/event/childrens-sunday-school-groups/2028-03-26/
CATEGORIES:Children,Main Calendar,St. Johns Baptist (General) - Miscellaneous,Sunday Growth Groups
ATTACH;FMTTYPE=image/png:https://stjohnsbaptistchurch.org/wp-content/uploads/2024/04/SJ-Event-Featured-Images-Website-6.png
END:VEVENT
BEGIN:VEVENT
DTSTART;TZID=America/New_York:20280327T080000
DTEND;TZID=America/New_York:20280327T143000
DTSTAMP:20260420T010418
CREATED:20250522T113122Z
LAST-MODIFIED:20250522T113122Z
UID:10012915-1837756800-1837780200@stjohnsbaptistchurch.org
SUMMARY:Weekday School
DESCRIPTION:
URL:https://stjohnsbaptistchurch.org/event/weekday-school/2028-03-27/
LOCATION:300 Hawthorne Lane
CATEGORIES:Children,Main Calendar,St. Johns Baptist (General) - Miscellaneous
ATTACH;FMTTYPE=image/jpeg:https://stjohnsbaptistchurch.org/wp-content/uploads/2024/04/default-featured-image.jpg
END:VEVENT
BEGIN:VEVENT
DTSTART;TZID=America/New_York:20280328T080000
DTEND;TZID=America/New_York:20280328T143000
DTSTAMP:20260420T010418
CREATED:20250522T113122Z
LAST-MODIFIED:20250522T113122Z
UID:10012916-1837843200-1837866600@stjohnsbaptistchurch.org
SUMMARY:Weekday School
DESCRIPTION:
URL:https://stjohnsbaptistchurch.org/event/weekday-school/2028-03-28/
LOCATION:300 Hawthorne Lane
CATEGORIES:Children,Main Calendar,St. Johns Baptist (General) - Miscellaneous
ATTACH;FMTTYPE=image/jpeg:https://stjohnsbaptistchurch.org/wp-content/uploads/2024/04/default-featured-image.jpg
END:VEVENT
BEGIN:VEVENT
DTSTART;TZID=America/New_York:20280329T080000
DTEND;TZID=America/New_York:20280329T143000
DTSTAMP:20260420T010418
CREATED:20250522T113122Z
LAST-MODIFIED:20250522T113122Z
UID:10012917-1837929600-1837953000@stjohnsbaptistchurch.org
SUMMARY:Weekday School
DESCRIPTION:
URL:https://stjohnsbaptistchurch.org/event/weekday-school/2028-03-29/
LOCATION:300 Hawthorne Lane
CATEGORIES:Children,Main Calendar,St. Johns Baptist (General) - Miscellaneous
ATTACH;FMTTYPE=image/jpeg:https://stjohnsbaptistchurch.org/wp-content/uploads/2024/04/default-featured-image.jpg
END:VEVENT
BEGIN:VEVENT
DTSTART;TZID=America/New_York:20280330T080000
DTEND;TZID=America/New_York:20280330T143000
DTSTAMP:20260420T010418
CREATED:20250522T113122Z
LAST-MODIFIED:20250522T113122Z
UID:10012918-1838016000-1838039400@stjohnsbaptistchurch.org
SUMMARY:Weekday School
DESCRIPTION:
URL:https://stjohnsbaptistchurch.org/event/weekday-school/2028-03-30/
LOCATION:300 Hawthorne Lane
CATEGORIES:Children,Main Calendar,St. Johns Baptist (General) - Miscellaneous
ATTACH;FMTTYPE=image/jpeg:https://stjohnsbaptistchurch.org/wp-content/uploads/2024/04/default-featured-image.jpg
END:VEVENT
BEGIN:VEVENT
DTSTART;TZID=America/New_York:20280331T080000
DTEND;TZID=America/New_York:20280331T143000
DTSTAMP:20260420T010418
CREATED:20250522T113122Z
LAST-MODIFIED:20250522T113122Z
UID:10012919-1838102400-1838125800@stjohnsbaptistchurch.org
SUMMARY:Weekday School
DESCRIPTION:
URL:https://stjohnsbaptistchurch.org/event/weekday-school/2028-03-31/
LOCATION:300 Hawthorne Lane
CATEGORIES:Children,Main Calendar,St. Johns Baptist (General) - Miscellaneous
ATTACH;FMTTYPE=image/jpeg:https://stjohnsbaptistchurch.org/wp-content/uploads/2024/04/default-featured-image.jpg
END:VEVENT
BEGIN:VEVENT
DTSTART;TZID=America/New_York:20280402T091500
DTEND;TZID=America/New_York:20280402T103000
DTSTAMP:20260420T010418
CREATED:20240409T211604Z
LAST-MODIFIED:20240409T211604Z
UID:10007938-1838279700-1838284200@stjohnsbaptistchurch.org
SUMMARY:Children's Sunday School Groups
DESCRIPTION:We currently have three different age-divided Sunday school classes for our children at St. John’s. \n\nNursery (infant – toddler) – Room 219\nElementary (1st – 5th grades) – Room 221\nPreschool (3 – end of Kindergarten) – Room 223
URL:https://stjohnsbaptistchurch.org/event/childrens-sunday-school-groups/2028-04-02/
CATEGORIES:Children,Main Calendar,St. Johns Baptist (General) - Miscellaneous,Sunday Growth Groups
ATTACH;FMTTYPE=image/png:https://stjohnsbaptistchurch.org/wp-content/uploads/2024/04/SJ-Event-Featured-Images-Website-6.png
END:VEVENT
BEGIN:VEVENT
DTSTART;TZID=America/New_York:20280403T080000
DTEND;TZID=America/New_York:20280403T143000
DTSTAMP:20260420T010418
CREATED:20250522T113122Z
LAST-MODIFIED:20250522T113122Z
UID:10012920-1838361600-1838385000@stjohnsbaptistchurch.org
SUMMARY:Weekday School
DESCRIPTION:
URL:https://stjohnsbaptistchurch.org/event/weekday-school/2028-04-03/
LOCATION:300 Hawthorne Lane
CATEGORIES:Children,Main Calendar,St. Johns Baptist (General) - Miscellaneous
ATTACH;FMTTYPE=image/jpeg:https://stjohnsbaptistchurch.org/wp-content/uploads/2024/04/default-featured-image.jpg
END:VEVENT
BEGIN:VEVENT
DTSTART;TZID=America/New_York:20280404T080000
DTEND;TZID=America/New_York:20280404T143000
DTSTAMP:20260420T010418
CREATED:20250522T113122Z
LAST-MODIFIED:20250522T113122Z
UID:10012921-1838448000-1838471400@stjohnsbaptistchurch.org
SUMMARY:Weekday School
DESCRIPTION:
URL:https://stjohnsbaptistchurch.org/event/weekday-school/2028-04-04/
LOCATION:300 Hawthorne Lane
CATEGORIES:Children,Main Calendar,St. Johns Baptist (General) - Miscellaneous
ATTACH;FMTTYPE=image/jpeg:https://stjohnsbaptistchurch.org/wp-content/uploads/2024/04/default-featured-image.jpg
END:VEVENT
BEGIN:VEVENT
DTSTART;TZID=America/New_York:20280405T080000
DTEND;TZID=America/New_York:20280405T143000
DTSTAMP:20260420T010418
CREATED:20250522T113122Z
LAST-MODIFIED:20250522T113122Z
UID:10012922-1838534400-1838557800@stjohnsbaptistchurch.org
SUMMARY:Weekday School
DESCRIPTION:
URL:https://stjohnsbaptistchurch.org/event/weekday-school/2028-04-05/
LOCATION:300 Hawthorne Lane
CATEGORIES:Children,Main Calendar,St. Johns Baptist (General) - Miscellaneous
ATTACH;FMTTYPE=image/jpeg:https://stjohnsbaptistchurch.org/wp-content/uploads/2024/04/default-featured-image.jpg
END:VEVENT
BEGIN:VEVENT
DTSTART;TZID=America/New_York:20280406T080000
DTEND;TZID=America/New_York:20280406T143000
DTSTAMP:20260420T010418
CREATED:20250522T113122Z
LAST-MODIFIED:20250522T113122Z
UID:10012923-1838620800-1838644200@stjohnsbaptistchurch.org
SUMMARY:Weekday School
DESCRIPTION:
URL:https://stjohnsbaptistchurch.org/event/weekday-school/2028-04-06/
LOCATION:300 Hawthorne Lane
CATEGORIES:Children,Main Calendar,St. Johns Baptist (General) - Miscellaneous
ATTACH;FMTTYPE=image/jpeg:https://stjohnsbaptistchurch.org/wp-content/uploads/2024/04/default-featured-image.jpg
END:VEVENT
BEGIN:VEVENT
DTSTART;TZID=America/New_York:20280407T080000
DTEND;TZID=America/New_York:20280407T143000
DTSTAMP:20260420T010418
CREATED:20250522T113122Z
LAST-MODIFIED:20250522T113122Z
UID:10012924-1838707200-1838730600@stjohnsbaptistchurch.org
SUMMARY:Weekday School
DESCRIPTION:
URL:https://stjohnsbaptistchurch.org/event/weekday-school/2028-04-07/
LOCATION:300 Hawthorne Lane
CATEGORIES:Children,Main Calendar,St. Johns Baptist (General) - Miscellaneous
ATTACH;FMTTYPE=image/jpeg:https://stjohnsbaptistchurch.org/wp-content/uploads/2024/04/default-featured-image.jpg
END:VEVENT
BEGIN:VEVENT
DTSTART;TZID=America/New_York:20280409T091500
DTEND;TZID=America/New_York:20280409T103000
DTSTAMP:20260420T010418
CREATED:20240409T211604Z
LAST-MODIFIED:20240409T211604Z
UID:10007939-1838884500-1838889000@stjohnsbaptistchurch.org
SUMMARY:Children's Sunday School Groups
DESCRIPTION:We currently have three different age-divided Sunday school classes for our children at St. John’s. \n\nNursery (infant – toddler) – Room 219\nElementary (1st – 5th grades) – Room 221\nPreschool (3 – end of Kindergarten) – Room 223
URL:https://stjohnsbaptistchurch.org/event/childrens-sunday-school-groups/2028-04-09/
CATEGORIES:Children,Main Calendar,St. Johns Baptist (General) - Miscellaneous,Sunday Growth Groups
ATTACH;FMTTYPE=image/png:https://stjohnsbaptistchurch.org/wp-content/uploads/2024/04/SJ-Event-Featured-Images-Website-6.png
END:VEVENT
BEGIN:VEVENT
DTSTART;TZID=America/New_York:20280410T080000
DTEND;TZID=America/New_York:20280410T143000
DTSTAMP:20260420T010418
CREATED:20250522T113122Z
LAST-MODIFIED:20250522T113122Z
UID:10012925-1838966400-1838989800@stjohnsbaptistchurch.org
SUMMARY:Weekday School
DESCRIPTION:
URL:https://stjohnsbaptistchurch.org/event/weekday-school/2028-04-10/
LOCATION:300 Hawthorne Lane
CATEGORIES:Children,Main Calendar,St. Johns Baptist (General) - Miscellaneous
ATTACH;FMTTYPE=image/jpeg:https://stjohnsbaptistchurch.org/wp-content/uploads/2024/04/default-featured-image.jpg
END:VEVENT
END:VCALENDAR