BEGIN:VCALENDAR
VERSION:2.0
PRODID:-//St. John's Baptist Church - ECPv6.15.7//NONSGML v1.0//EN
CALSCALE:GREGORIAN
METHOD:PUBLISH
X-ORIGINAL-URL:https://stjohnsbaptistchurch.org
X-WR-CALDESC:Events for St. John's Baptist Church
REFRESH-INTERVAL;VALUE=DURATION:PT1H
X-Robots-Tag:noindex
X-PUBLISHED-TTL:PT1H
BEGIN:VTIMEZONE
TZID:America/New_York
BEGIN:DAYLIGHT
TZOFFSETFROM:-0500
TZOFFSETTO:-0400
TZNAME:EDT
DTSTART:20270314T070000
END:DAYLIGHT
BEGIN:STANDARD
TZOFFSETFROM:-0400
TZOFFSETTO:-0500
TZNAME:EST
DTSTART:20271107T060000
END:STANDARD
BEGIN:DAYLIGHT
TZOFFSETFROM:-0500
TZOFFSETTO:-0400
TZNAME:EDT
DTSTART:20280312T070000
END:DAYLIGHT
BEGIN:STANDARD
TZOFFSETFROM:-0400
TZOFFSETTO:-0500
TZNAME:EST
DTSTART:20281105T060000
END:STANDARD
BEGIN:DAYLIGHT
TZOFFSETFROM:-0500
TZOFFSETTO:-0400
TZNAME:EDT
DTSTART:20290311T070000
END:DAYLIGHT
BEGIN:STANDARD
TZOFFSETFROM:-0400
TZOFFSETTO:-0500
TZNAME:EST
DTSTART:20291104T060000
END:STANDARD
END:VTIMEZONE
BEGIN:VEVENT
DTSTART;TZID=America/New_York:20280330T080000
DTEND;TZID=America/New_York:20280330T143000
DTSTAMP:20260420T031911
CREATED:20250522T113122Z
LAST-MODIFIED:20250522T113122Z
UID:10012918-1838016000-1838039400@stjohnsbaptistchurch.org
SUMMARY:Weekday School
DESCRIPTION:
URL:https://stjohnsbaptistchurch.org/event/weekday-school/2028-03-30/
LOCATION:300 Hawthorne Lane
CATEGORIES:Children,Main Calendar,St. Johns Baptist (General) - Miscellaneous
ATTACH;FMTTYPE=image/jpeg:https://stjohnsbaptistchurch.org/wp-content/uploads/2024/04/default-featured-image.jpg
END:VEVENT
BEGIN:VEVENT
DTSTART;TZID=America/New_York:20280331T080000
DTEND;TZID=America/New_York:20280331T143000
DTSTAMP:20260420T031911
CREATED:20250522T113122Z
LAST-MODIFIED:20250522T113122Z
UID:10012919-1838102400-1838125800@stjohnsbaptistchurch.org
SUMMARY:Weekday School
DESCRIPTION:
URL:https://stjohnsbaptistchurch.org/event/weekday-school/2028-03-31/
LOCATION:300 Hawthorne Lane
CATEGORIES:Children,Main Calendar,St. Johns Baptist (General) - Miscellaneous
ATTACH;FMTTYPE=image/jpeg:https://stjohnsbaptistchurch.org/wp-content/uploads/2024/04/default-featured-image.jpg
END:VEVENT
BEGIN:VEVENT
DTSTART;TZID=America/New_York:20280402T091500
DTEND;TZID=America/New_York:20280402T103000
DTSTAMP:20260420T031911
CREATED:20240409T211604Z
LAST-MODIFIED:20240409T211604Z
UID:10007938-1838279700-1838284200@stjohnsbaptistchurch.org
SUMMARY:Children's Sunday School Groups
DESCRIPTION:We currently have three different age-divided Sunday school classes for our children at St. John’s. \n\nNursery (infant – toddler) – Room 219\nElementary (1st – 5th grades) – Room 221\nPreschool (3 – end of Kindergarten) – Room 223
URL:https://stjohnsbaptistchurch.org/event/childrens-sunday-school-groups/2028-04-02/
CATEGORIES:Children,Main Calendar,St. Johns Baptist (General) - Miscellaneous,Sunday Growth Groups
ATTACH;FMTTYPE=image/png:https://stjohnsbaptistchurch.org/wp-content/uploads/2024/04/SJ-Event-Featured-Images-Website-6.png
END:VEVENT
BEGIN:VEVENT
DTSTART;TZID=America/New_York:20280403T080000
DTEND;TZID=America/New_York:20280403T143000
DTSTAMP:20260420T031911
CREATED:20250522T113122Z
LAST-MODIFIED:20250522T113122Z
UID:10012920-1838361600-1838385000@stjohnsbaptistchurch.org
SUMMARY:Weekday School
DESCRIPTION:
URL:https://stjohnsbaptistchurch.org/event/weekday-school/2028-04-03/
LOCATION:300 Hawthorne Lane
CATEGORIES:Children,Main Calendar,St. Johns Baptist (General) - Miscellaneous
ATTACH;FMTTYPE=image/jpeg:https://stjohnsbaptistchurch.org/wp-content/uploads/2024/04/default-featured-image.jpg
END:VEVENT
BEGIN:VEVENT
DTSTART;TZID=America/New_York:20280404T080000
DTEND;TZID=America/New_York:20280404T143000
DTSTAMP:20260420T031911
CREATED:20250522T113122Z
LAST-MODIFIED:20250522T113122Z
UID:10012921-1838448000-1838471400@stjohnsbaptistchurch.org
SUMMARY:Weekday School
DESCRIPTION:
URL:https://stjohnsbaptistchurch.org/event/weekday-school/2028-04-04/
LOCATION:300 Hawthorne Lane
CATEGORIES:Children,Main Calendar,St. Johns Baptist (General) - Miscellaneous
ATTACH;FMTTYPE=image/jpeg:https://stjohnsbaptistchurch.org/wp-content/uploads/2024/04/default-featured-image.jpg
END:VEVENT
BEGIN:VEVENT
DTSTART;TZID=America/New_York:20280405T080000
DTEND;TZID=America/New_York:20280405T143000
DTSTAMP:20260420T031911
CREATED:20250522T113122Z
LAST-MODIFIED:20250522T113122Z
UID:10012922-1838534400-1838557800@stjohnsbaptistchurch.org
SUMMARY:Weekday School
DESCRIPTION:
URL:https://stjohnsbaptistchurch.org/event/weekday-school/2028-04-05/
LOCATION:300 Hawthorne Lane
CATEGORIES:Children,Main Calendar,St. Johns Baptist (General) - Miscellaneous
ATTACH;FMTTYPE=image/jpeg:https://stjohnsbaptistchurch.org/wp-content/uploads/2024/04/default-featured-image.jpg
END:VEVENT
BEGIN:VEVENT
DTSTART;TZID=America/New_York:20280406T080000
DTEND;TZID=America/New_York:20280406T143000
DTSTAMP:20260420T031911
CREATED:20250522T113122Z
LAST-MODIFIED:20250522T113122Z
UID:10012923-1838620800-1838644200@stjohnsbaptistchurch.org
SUMMARY:Weekday School
DESCRIPTION:
URL:https://stjohnsbaptistchurch.org/event/weekday-school/2028-04-06/
LOCATION:300 Hawthorne Lane
CATEGORIES:Children,Main Calendar,St. Johns Baptist (General) - Miscellaneous
ATTACH;FMTTYPE=image/jpeg:https://stjohnsbaptistchurch.org/wp-content/uploads/2024/04/default-featured-image.jpg
END:VEVENT
BEGIN:VEVENT
DTSTART;TZID=America/New_York:20280407T080000
DTEND;TZID=America/New_York:20280407T143000
DTSTAMP:20260420T031911
CREATED:20250522T113122Z
LAST-MODIFIED:20250522T113122Z
UID:10012924-1838707200-1838730600@stjohnsbaptistchurch.org
SUMMARY:Weekday School
DESCRIPTION:
URL:https://stjohnsbaptistchurch.org/event/weekday-school/2028-04-07/
LOCATION:300 Hawthorne Lane
CATEGORIES:Children,Main Calendar,St. Johns Baptist (General) - Miscellaneous
ATTACH;FMTTYPE=image/jpeg:https://stjohnsbaptistchurch.org/wp-content/uploads/2024/04/default-featured-image.jpg
END:VEVENT
BEGIN:VEVENT
DTSTART;TZID=America/New_York:20280409T091500
DTEND;TZID=America/New_York:20280409T103000
DTSTAMP:20260420T031911
CREATED:20240409T211604Z
LAST-MODIFIED:20240409T211604Z
UID:10007939-1838884500-1838889000@stjohnsbaptistchurch.org
SUMMARY:Children's Sunday School Groups
DESCRIPTION:We currently have three different age-divided Sunday school classes for our children at St. John’s. \n\nNursery (infant – toddler) – Room 219\nElementary (1st – 5th grades) – Room 221\nPreschool (3 – end of Kindergarten) – Room 223
URL:https://stjohnsbaptistchurch.org/event/childrens-sunday-school-groups/2028-04-09/
CATEGORIES:Children,Main Calendar,St. Johns Baptist (General) - Miscellaneous,Sunday Growth Groups
ATTACH;FMTTYPE=image/png:https://stjohnsbaptistchurch.org/wp-content/uploads/2024/04/SJ-Event-Featured-Images-Website-6.png
END:VEVENT
BEGIN:VEVENT
DTSTART;TZID=America/New_York:20280410T080000
DTEND;TZID=America/New_York:20280410T143000
DTSTAMP:20260420T031911
CREATED:20250522T113122Z
LAST-MODIFIED:20250522T113122Z
UID:10012925-1838966400-1838989800@stjohnsbaptistchurch.org
SUMMARY:Weekday School
DESCRIPTION:
URL:https://stjohnsbaptistchurch.org/event/weekday-school/2028-04-10/
LOCATION:300 Hawthorne Lane
CATEGORIES:Children,Main Calendar,St. Johns Baptist (General) - Miscellaneous
ATTACH;FMTTYPE=image/jpeg:https://stjohnsbaptistchurch.org/wp-content/uploads/2024/04/default-featured-image.jpg
END:VEVENT
BEGIN:VEVENT
DTSTART;TZID=America/New_York:20280411T080000
DTEND;TZID=America/New_York:20280411T143000
DTSTAMP:20260420T031911
CREATED:20250522T113122Z
LAST-MODIFIED:20250522T113122Z
UID:10012926-1839052800-1839076200@stjohnsbaptistchurch.org
SUMMARY:Weekday School
DESCRIPTION:
URL:https://stjohnsbaptistchurch.org/event/weekday-school/2028-04-11/
LOCATION:300 Hawthorne Lane
CATEGORIES:Children,Main Calendar,St. Johns Baptist (General) - Miscellaneous
ATTACH;FMTTYPE=image/jpeg:https://stjohnsbaptistchurch.org/wp-content/uploads/2024/04/default-featured-image.jpg
END:VEVENT
BEGIN:VEVENT
DTSTART;TZID=America/New_York:20280412T080000
DTEND;TZID=America/New_York:20280412T143000
DTSTAMP:20260420T031911
CREATED:20250522T113122Z
LAST-MODIFIED:20250522T113122Z
UID:10012927-1839139200-1839162600@stjohnsbaptistchurch.org
SUMMARY:Weekday School
DESCRIPTION:
URL:https://stjohnsbaptistchurch.org/event/weekday-school/2028-04-12/
LOCATION:300 Hawthorne Lane
CATEGORIES:Children,Main Calendar,St. Johns Baptist (General) - Miscellaneous
ATTACH;FMTTYPE=image/jpeg:https://stjohnsbaptistchurch.org/wp-content/uploads/2024/04/default-featured-image.jpg
END:VEVENT
BEGIN:VEVENT
DTSTART;TZID=America/New_York:20280413T080000
DTEND;TZID=America/New_York:20280413T143000
DTSTAMP:20260420T031911
CREATED:20250522T113122Z
LAST-MODIFIED:20250522T113122Z
UID:10012928-1839225600-1839249000@stjohnsbaptistchurch.org
SUMMARY:Weekday School
DESCRIPTION:
URL:https://stjohnsbaptistchurch.org/event/weekday-school/2028-04-13/
LOCATION:300 Hawthorne Lane
CATEGORIES:Children,Main Calendar,St. Johns Baptist (General) - Miscellaneous
ATTACH;FMTTYPE=image/jpeg:https://stjohnsbaptistchurch.org/wp-content/uploads/2024/04/default-featured-image.jpg
END:VEVENT
BEGIN:VEVENT
DTSTART;TZID=America/New_York:20280414T080000
DTEND;TZID=America/New_York:20280414T143000
DTSTAMP:20260420T031911
CREATED:20250522T113122Z
LAST-MODIFIED:20250522T113122Z
UID:10012929-1839312000-1839335400@stjohnsbaptistchurch.org
SUMMARY:Weekday School
DESCRIPTION:
URL:https://stjohnsbaptistchurch.org/event/weekday-school/2028-04-14/
LOCATION:300 Hawthorne Lane
CATEGORIES:Children,Main Calendar,St. Johns Baptist (General) - Miscellaneous
ATTACH;FMTTYPE=image/jpeg:https://stjohnsbaptistchurch.org/wp-content/uploads/2024/04/default-featured-image.jpg
END:VEVENT
BEGIN:VEVENT
DTSTART;TZID=America/New_York:20280416T091500
DTEND;TZID=America/New_York:20280416T103000
DTSTAMP:20260420T031911
CREATED:20240409T211604Z
LAST-MODIFIED:20240409T211604Z
UID:10007940-1839489300-1839493800@stjohnsbaptistchurch.org
SUMMARY:Children's Sunday School Groups
DESCRIPTION:We currently have three different age-divided Sunday school classes for our children at St. John’s. \n\nNursery (infant – toddler) – Room 219\nElementary (1st – 5th grades) – Room 221\nPreschool (3 – end of Kindergarten) – Room 223
URL:https://stjohnsbaptistchurch.org/event/childrens-sunday-school-groups/2028-04-16/
CATEGORIES:Children,Main Calendar,St. Johns Baptist (General) - Miscellaneous,Sunday Growth Groups
ATTACH;FMTTYPE=image/png:https://stjohnsbaptistchurch.org/wp-content/uploads/2024/04/SJ-Event-Featured-Images-Website-6.png
END:VEVENT
BEGIN:VEVENT
DTSTART;TZID=America/New_York:20280417T080000
DTEND;TZID=America/New_York:20280417T143000
DTSTAMP:20260420T031911
CREATED:20250522T113122Z
LAST-MODIFIED:20250522T113122Z
UID:10012930-1839571200-1839594600@stjohnsbaptistchurch.org
SUMMARY:Weekday School
DESCRIPTION:
URL:https://stjohnsbaptistchurch.org/event/weekday-school/2028-04-17/
LOCATION:300 Hawthorne Lane
CATEGORIES:Children,Main Calendar,St. Johns Baptist (General) - Miscellaneous
ATTACH;FMTTYPE=image/jpeg:https://stjohnsbaptistchurch.org/wp-content/uploads/2024/04/default-featured-image.jpg
END:VEVENT
BEGIN:VEVENT
DTSTART;TZID=America/New_York:20280418T080000
DTEND;TZID=America/New_York:20280418T143000
DTSTAMP:20260420T031911
CREATED:20250522T113122Z
LAST-MODIFIED:20250522T113122Z
UID:10012931-1839657600-1839681000@stjohnsbaptistchurch.org
SUMMARY:Weekday School
DESCRIPTION:
URL:https://stjohnsbaptistchurch.org/event/weekday-school/2028-04-18/
LOCATION:300 Hawthorne Lane
CATEGORIES:Children,Main Calendar,St. Johns Baptist (General) - Miscellaneous
ATTACH;FMTTYPE=image/jpeg:https://stjohnsbaptistchurch.org/wp-content/uploads/2024/04/default-featured-image.jpg
END:VEVENT
BEGIN:VEVENT
DTSTART;TZID=America/New_York:20280419T080000
DTEND;TZID=America/New_York:20280419T143000
DTSTAMP:20260420T031911
CREATED:20250522T113122Z
LAST-MODIFIED:20250522T113122Z
UID:10012932-1839744000-1839767400@stjohnsbaptistchurch.org
SUMMARY:Weekday School
DESCRIPTION:
URL:https://stjohnsbaptistchurch.org/event/weekday-school/2028-04-19/
LOCATION:300 Hawthorne Lane
CATEGORIES:Children,Main Calendar,St. Johns Baptist (General) - Miscellaneous
ATTACH;FMTTYPE=image/jpeg:https://stjohnsbaptistchurch.org/wp-content/uploads/2024/04/default-featured-image.jpg
END:VEVENT
BEGIN:VEVENT
DTSTART;TZID=America/New_York:20280420T080000
DTEND;TZID=America/New_York:20280420T143000
DTSTAMP:20260420T031911
CREATED:20250522T113122Z
LAST-MODIFIED:20250522T113122Z
UID:10012933-1839830400-1839853800@stjohnsbaptistchurch.org
SUMMARY:Weekday School
DESCRIPTION:
URL:https://stjohnsbaptistchurch.org/event/weekday-school/2028-04-20/
LOCATION:300 Hawthorne Lane
CATEGORIES:Children,Main Calendar,St. Johns Baptist (General) - Miscellaneous
ATTACH;FMTTYPE=image/jpeg:https://stjohnsbaptistchurch.org/wp-content/uploads/2024/04/default-featured-image.jpg
END:VEVENT
BEGIN:VEVENT
DTSTART;TZID=America/New_York:20280421T080000
DTEND;TZID=America/New_York:20280421T143000
DTSTAMP:20260420T031911
CREATED:20250522T113122Z
LAST-MODIFIED:20250522T113122Z
UID:10012934-1839916800-1839940200@stjohnsbaptistchurch.org
SUMMARY:Weekday School
DESCRIPTION:
URL:https://stjohnsbaptistchurch.org/event/weekday-school/2028-04-21/
LOCATION:300 Hawthorne Lane
CATEGORIES:Children,Main Calendar,St. Johns Baptist (General) - Miscellaneous
ATTACH;FMTTYPE=image/jpeg:https://stjohnsbaptistchurch.org/wp-content/uploads/2024/04/default-featured-image.jpg
END:VEVENT
BEGIN:VEVENT
DTSTART;TZID=America/New_York:20280423T091500
DTEND;TZID=America/New_York:20280423T103000
DTSTAMP:20260420T031911
CREATED:20240409T211604Z
LAST-MODIFIED:20240409T211604Z
UID:10007941-1840094100-1840098600@stjohnsbaptistchurch.org
SUMMARY:Children's Sunday School Groups
DESCRIPTION:We currently have three different age-divided Sunday school classes for our children at St. John’s. \n\nNursery (infant – toddler) – Room 219\nElementary (1st – 5th grades) – Room 221\nPreschool (3 – end of Kindergarten) – Room 223
URL:https://stjohnsbaptistchurch.org/event/childrens-sunday-school-groups/2028-04-23/
CATEGORIES:Children,Main Calendar,St. Johns Baptist (General) - Miscellaneous,Sunday Growth Groups
ATTACH;FMTTYPE=image/png:https://stjohnsbaptistchurch.org/wp-content/uploads/2024/04/SJ-Event-Featured-Images-Website-6.png
END:VEVENT
BEGIN:VEVENT
DTSTART;TZID=America/New_York:20280424T080000
DTEND;TZID=America/New_York:20280424T143000
DTSTAMP:20260420T031911
CREATED:20250522T113122Z
LAST-MODIFIED:20250522T113122Z
UID:10012935-1840176000-1840199400@stjohnsbaptistchurch.org
SUMMARY:Weekday School
DESCRIPTION:
URL:https://stjohnsbaptistchurch.org/event/weekday-school/2028-04-24/
LOCATION:300 Hawthorne Lane
CATEGORIES:Children,Main Calendar,St. Johns Baptist (General) - Miscellaneous
ATTACH;FMTTYPE=image/jpeg:https://stjohnsbaptistchurch.org/wp-content/uploads/2024/04/default-featured-image.jpg
END:VEVENT
BEGIN:VEVENT
DTSTART;TZID=America/New_York:20280425T080000
DTEND;TZID=America/New_York:20280425T143000
DTSTAMP:20260420T031911
CREATED:20250522T113122Z
LAST-MODIFIED:20250522T113122Z
UID:10012936-1840262400-1840285800@stjohnsbaptistchurch.org
SUMMARY:Weekday School
DESCRIPTION:
URL:https://stjohnsbaptistchurch.org/event/weekday-school/2028-04-25/
LOCATION:300 Hawthorne Lane
CATEGORIES:Children,Main Calendar,St. Johns Baptist (General) - Miscellaneous
ATTACH;FMTTYPE=image/jpeg:https://stjohnsbaptistchurch.org/wp-content/uploads/2024/04/default-featured-image.jpg
END:VEVENT
BEGIN:VEVENT
DTSTART;TZID=America/New_York:20280426T080000
DTEND;TZID=America/New_York:20280426T143000
DTSTAMP:20260420T031911
CREATED:20250522T113122Z
LAST-MODIFIED:20250522T113122Z
UID:10012937-1840348800-1840372200@stjohnsbaptistchurch.org
SUMMARY:Weekday School
DESCRIPTION:
URL:https://stjohnsbaptistchurch.org/event/weekday-school/2028-04-26/
LOCATION:300 Hawthorne Lane
CATEGORIES:Children,Main Calendar,St. Johns Baptist (General) - Miscellaneous
ATTACH;FMTTYPE=image/jpeg:https://stjohnsbaptistchurch.org/wp-content/uploads/2024/04/default-featured-image.jpg
END:VEVENT
BEGIN:VEVENT
DTSTART;TZID=America/New_York:20280427T080000
DTEND;TZID=America/New_York:20280427T143000
DTSTAMP:20260420T031911
CREATED:20250522T113122Z
LAST-MODIFIED:20250522T113122Z
UID:10012938-1840435200-1840458600@stjohnsbaptistchurch.org
SUMMARY:Weekday School
DESCRIPTION:
URL:https://stjohnsbaptistchurch.org/event/weekday-school/2028-04-27/
LOCATION:300 Hawthorne Lane
CATEGORIES:Children,Main Calendar,St. Johns Baptist (General) - Miscellaneous
ATTACH;FMTTYPE=image/jpeg:https://stjohnsbaptistchurch.org/wp-content/uploads/2024/04/default-featured-image.jpg
END:VEVENT
BEGIN:VEVENT
DTSTART;TZID=America/New_York:20280428T080000
DTEND;TZID=America/New_York:20280428T143000
DTSTAMP:20260420T031911
CREATED:20250522T113122Z
LAST-MODIFIED:20250522T113122Z
UID:10012939-1840521600-1840545000@stjohnsbaptistchurch.org
SUMMARY:Weekday School
DESCRIPTION:
URL:https://stjohnsbaptistchurch.org/event/weekday-school/2028-04-28/
LOCATION:300 Hawthorne Lane
CATEGORIES:Children,Main Calendar,St. Johns Baptist (General) - Miscellaneous
ATTACH;FMTTYPE=image/jpeg:https://stjohnsbaptistchurch.org/wp-content/uploads/2024/04/default-featured-image.jpg
END:VEVENT
BEGIN:VEVENT
DTSTART;TZID=America/New_York:20280430T091500
DTEND;TZID=America/New_York:20280430T103000
DTSTAMP:20260420T031911
CREATED:20240409T211604Z
LAST-MODIFIED:20240409T211604Z
UID:10007942-1840698900-1840703400@stjohnsbaptistchurch.org
SUMMARY:Children's Sunday School Groups
DESCRIPTION:We currently have three different age-divided Sunday school classes for our children at St. John’s. \n\nNursery (infant – toddler) – Room 219\nElementary (1st – 5th grades) – Room 221\nPreschool (3 – end of Kindergarten) – Room 223
URL:https://stjohnsbaptistchurch.org/event/childrens-sunday-school-groups/2028-04-30/
CATEGORIES:Children,Main Calendar,St. Johns Baptist (General) - Miscellaneous,Sunday Growth Groups
ATTACH;FMTTYPE=image/png:https://stjohnsbaptistchurch.org/wp-content/uploads/2024/04/SJ-Event-Featured-Images-Website-6.png
END:VEVENT
BEGIN:VEVENT
DTSTART;TZID=America/New_York:20280501T080000
DTEND;TZID=America/New_York:20280501T143000
DTSTAMP:20260420T031911
CREATED:20250522T113122Z
LAST-MODIFIED:20250522T113122Z
UID:10012940-1840780800-1840804200@stjohnsbaptistchurch.org
SUMMARY:Weekday School
DESCRIPTION:
URL:https://stjohnsbaptistchurch.org/event/weekday-school/2028-05-01/
LOCATION:300 Hawthorne Lane
CATEGORIES:Children,Main Calendar,St. Johns Baptist (General) - Miscellaneous
ATTACH;FMTTYPE=image/jpeg:https://stjohnsbaptistchurch.org/wp-content/uploads/2024/04/default-featured-image.jpg
END:VEVENT
BEGIN:VEVENT
DTSTART;TZID=America/New_York:20280502T080000
DTEND;TZID=America/New_York:20280502T143000
DTSTAMP:20260420T031911
CREATED:20250522T113122Z
LAST-MODIFIED:20250522T113122Z
UID:10012941-1840867200-1840890600@stjohnsbaptistchurch.org
SUMMARY:Weekday School
DESCRIPTION:
URL:https://stjohnsbaptistchurch.org/event/weekday-school/2028-05-02/
LOCATION:300 Hawthorne Lane
CATEGORIES:Children,Main Calendar,St. Johns Baptist (General) - Miscellaneous
ATTACH;FMTTYPE=image/jpeg:https://stjohnsbaptistchurch.org/wp-content/uploads/2024/04/default-featured-image.jpg
END:VEVENT
BEGIN:VEVENT
DTSTART;TZID=America/New_York:20280503T080000
DTEND;TZID=America/New_York:20280503T143000
DTSTAMP:20260420T031911
CREATED:20250522T113122Z
LAST-MODIFIED:20250522T113122Z
UID:10012942-1840953600-1840977000@stjohnsbaptistchurch.org
SUMMARY:Weekday School
DESCRIPTION:
URL:https://stjohnsbaptistchurch.org/event/weekday-school/2028-05-03/
LOCATION:300 Hawthorne Lane
CATEGORIES:Children,Main Calendar,St. Johns Baptist (General) - Miscellaneous
ATTACH;FMTTYPE=image/jpeg:https://stjohnsbaptistchurch.org/wp-content/uploads/2024/04/default-featured-image.jpg
END:VEVENT
END:VCALENDAR