BEGIN:VCALENDAR
VERSION:2.0
PRODID:-//St. John's Baptist Church - ECPv6.15.7//NONSGML v1.0//EN
CALSCALE:GREGORIAN
METHOD:PUBLISH
X-ORIGINAL-URL:https://stjohnsbaptistchurch.org
X-WR-CALDESC:Events for St. John's Baptist Church
REFRESH-INTERVAL;VALUE=DURATION:PT1H
X-Robots-Tag:noindex
X-PUBLISHED-TTL:PT1H
BEGIN:VTIMEZONE
TZID:America/New_York
BEGIN:DAYLIGHT
TZOFFSETFROM:-0500
TZOFFSETTO:-0400
TZNAME:EDT
DTSTART:20270314T070000
END:DAYLIGHT
BEGIN:STANDARD
TZOFFSETFROM:-0400
TZOFFSETTO:-0500
TZNAME:EST
DTSTART:20271107T060000
END:STANDARD
BEGIN:DAYLIGHT
TZOFFSETFROM:-0500
TZOFFSETTO:-0400
TZNAME:EDT
DTSTART:20280312T070000
END:DAYLIGHT
BEGIN:STANDARD
TZOFFSETFROM:-0400
TZOFFSETTO:-0500
TZNAME:EST
DTSTART:20281105T060000
END:STANDARD
BEGIN:DAYLIGHT
TZOFFSETFROM:-0500
TZOFFSETTO:-0400
TZNAME:EDT
DTSTART:20290311T070000
END:DAYLIGHT
BEGIN:STANDARD
TZOFFSETFROM:-0400
TZOFFSETTO:-0500
TZNAME:EST
DTSTART:20291104T060000
END:STANDARD
END:VTIMEZONE
BEGIN:VEVENT
DTSTART;TZID=America/New_York:20280507T091500
DTEND;TZID=America/New_York:20280507T103000
DTSTAMP:20260422T050956
CREATED:20240409T211604Z
LAST-MODIFIED:20240409T211604Z
UID:10007943-1841303700-1841308200@stjohnsbaptistchurch.org
SUMMARY:Children's Sunday School Groups
DESCRIPTION:We currently have three different age-divided Sunday school classes for our children at St. John’s. \n\nNursery (infant – toddler) – Room 219\nElementary (1st – 5th grades) – Room 221\nPreschool (3 – end of Kindergarten) – Room 223
URL:https://stjohnsbaptistchurch.org/event/childrens-sunday-school-groups/2028-05-07/
CATEGORIES:Children,Main Calendar,St. Johns Baptist (General) - Miscellaneous,Sunday Growth Groups
ATTACH;FMTTYPE=image/png:https://stjohnsbaptistchurch.org/wp-content/uploads/2024/04/SJ-Event-Featured-Images-Website-6.png
END:VEVENT
BEGIN:VEVENT
DTSTART;TZID=America/New_York:20280508T080000
DTEND;TZID=America/New_York:20280508T143000
DTSTAMP:20260422T050956
CREATED:20250522T113122Z
LAST-MODIFIED:20250522T113122Z
UID:10012945-1841385600-1841409000@stjohnsbaptistchurch.org
SUMMARY:Weekday School
DESCRIPTION:
URL:https://stjohnsbaptistchurch.org/event/weekday-school/2028-05-08/
LOCATION:300 Hawthorne Lane
CATEGORIES:Children,Main Calendar,St. Johns Baptist (General) - Miscellaneous
ATTACH;FMTTYPE=image/jpeg:https://stjohnsbaptistchurch.org/wp-content/uploads/2024/04/default-featured-image.jpg
END:VEVENT
BEGIN:VEVENT
DTSTART;TZID=America/New_York:20280509T080000
DTEND;TZID=America/New_York:20280509T143000
DTSTAMP:20260422T050956
CREATED:20250522T113122Z
LAST-MODIFIED:20250522T113122Z
UID:10012946-1841472000-1841495400@stjohnsbaptistchurch.org
SUMMARY:Weekday School
DESCRIPTION:
URL:https://stjohnsbaptistchurch.org/event/weekday-school/2028-05-09/
LOCATION:300 Hawthorne Lane
CATEGORIES:Children,Main Calendar,St. Johns Baptist (General) - Miscellaneous
ATTACH;FMTTYPE=image/jpeg:https://stjohnsbaptistchurch.org/wp-content/uploads/2024/04/default-featured-image.jpg
END:VEVENT
BEGIN:VEVENT
DTSTART;TZID=America/New_York:20280510T080000
DTEND;TZID=America/New_York:20280510T143000
DTSTAMP:20260422T050956
CREATED:20250522T113122Z
LAST-MODIFIED:20250522T113122Z
UID:10012947-1841558400-1841581800@stjohnsbaptistchurch.org
SUMMARY:Weekday School
DESCRIPTION:
URL:https://stjohnsbaptistchurch.org/event/weekday-school/2028-05-10/
LOCATION:300 Hawthorne Lane
CATEGORIES:Children,Main Calendar,St. Johns Baptist (General) - Miscellaneous
ATTACH;FMTTYPE=image/jpeg:https://stjohnsbaptistchurch.org/wp-content/uploads/2024/04/default-featured-image.jpg
END:VEVENT
BEGIN:VEVENT
DTSTART;TZID=America/New_York:20280511T080000
DTEND;TZID=America/New_York:20280511T143000
DTSTAMP:20260422T050956
CREATED:20250522T113122Z
LAST-MODIFIED:20250522T113122Z
UID:10012948-1841644800-1841668200@stjohnsbaptistchurch.org
SUMMARY:Weekday School
DESCRIPTION:
URL:https://stjohnsbaptistchurch.org/event/weekday-school/2028-05-11/
LOCATION:300 Hawthorne Lane
CATEGORIES:Children,Main Calendar,St. Johns Baptist (General) - Miscellaneous
ATTACH;FMTTYPE=image/jpeg:https://stjohnsbaptistchurch.org/wp-content/uploads/2024/04/default-featured-image.jpg
END:VEVENT
BEGIN:VEVENT
DTSTART;TZID=America/New_York:20280512T080000
DTEND;TZID=America/New_York:20280512T143000
DTSTAMP:20260422T050956
CREATED:20250522T113122Z
LAST-MODIFIED:20250522T113122Z
UID:10012949-1841731200-1841754600@stjohnsbaptistchurch.org
SUMMARY:Weekday School
DESCRIPTION:
URL:https://stjohnsbaptistchurch.org/event/weekday-school/2028-05-12/
LOCATION:300 Hawthorne Lane
CATEGORIES:Children,Main Calendar,St. Johns Baptist (General) - Miscellaneous
ATTACH;FMTTYPE=image/jpeg:https://stjohnsbaptistchurch.org/wp-content/uploads/2024/04/default-featured-image.jpg
END:VEVENT
BEGIN:VEVENT
DTSTART;TZID=America/New_York:20280514T091500
DTEND;TZID=America/New_York:20280514T103000
DTSTAMP:20260422T050956
CREATED:20240409T211604Z
LAST-MODIFIED:20240409T211604Z
UID:10007944-1841908500-1841913000@stjohnsbaptistchurch.org
SUMMARY:Children's Sunday School Groups
DESCRIPTION:We currently have three different age-divided Sunday school classes for our children at St. John’s. \n\nNursery (infant – toddler) – Room 219\nElementary (1st – 5th grades) – Room 221\nPreschool (3 – end of Kindergarten) – Room 223
URL:https://stjohnsbaptistchurch.org/event/childrens-sunday-school-groups/2028-05-14/
CATEGORIES:Children,Main Calendar,St. Johns Baptist (General) - Miscellaneous,Sunday Growth Groups
ATTACH;FMTTYPE=image/png:https://stjohnsbaptistchurch.org/wp-content/uploads/2024/04/SJ-Event-Featured-Images-Website-6.png
END:VEVENT
BEGIN:VEVENT
DTSTART;TZID=America/New_York:20280515T080000
DTEND;TZID=America/New_York:20280515T143000
DTSTAMP:20260422T050956
CREATED:20250522T113122Z
LAST-MODIFIED:20250522T113122Z
UID:10012950-1841990400-1842013800@stjohnsbaptistchurch.org
SUMMARY:Weekday School
DESCRIPTION:
URL:https://stjohnsbaptistchurch.org/event/weekday-school/2028-05-15/
LOCATION:300 Hawthorne Lane
CATEGORIES:Children,Main Calendar,St. Johns Baptist (General) - Miscellaneous
ATTACH;FMTTYPE=image/jpeg:https://stjohnsbaptistchurch.org/wp-content/uploads/2024/04/default-featured-image.jpg
END:VEVENT
BEGIN:VEVENT
DTSTART;TZID=America/New_York:20280516T080000
DTEND;TZID=America/New_York:20280516T143000
DTSTAMP:20260422T050956
CREATED:20250522T113122Z
LAST-MODIFIED:20250522T113122Z
UID:10012951-1842076800-1842100200@stjohnsbaptistchurch.org
SUMMARY:Weekday School
DESCRIPTION:
URL:https://stjohnsbaptistchurch.org/event/weekday-school/2028-05-16/
LOCATION:300 Hawthorne Lane
CATEGORIES:Children,Main Calendar,St. Johns Baptist (General) - Miscellaneous
ATTACH;FMTTYPE=image/jpeg:https://stjohnsbaptistchurch.org/wp-content/uploads/2024/04/default-featured-image.jpg
END:VEVENT
BEGIN:VEVENT
DTSTART;TZID=America/New_York:20280517T080000
DTEND;TZID=America/New_York:20280517T143000
DTSTAMP:20260422T050956
CREATED:20250522T113122Z
LAST-MODIFIED:20250522T113122Z
UID:10012952-1842163200-1842186600@stjohnsbaptistchurch.org
SUMMARY:Weekday School
DESCRIPTION:
URL:https://stjohnsbaptistchurch.org/event/weekday-school/2028-05-17/
LOCATION:300 Hawthorne Lane
CATEGORIES:Children,Main Calendar,St. Johns Baptist (General) - Miscellaneous
ATTACH;FMTTYPE=image/jpeg:https://stjohnsbaptistchurch.org/wp-content/uploads/2024/04/default-featured-image.jpg
END:VEVENT
BEGIN:VEVENT
DTSTART;TZID=America/New_York:20280518T080000
DTEND;TZID=America/New_York:20280518T143000
DTSTAMP:20260422T050956
CREATED:20250522T113122Z
LAST-MODIFIED:20250522T113122Z
UID:10012953-1842249600-1842273000@stjohnsbaptistchurch.org
SUMMARY:Weekday School
DESCRIPTION:
URL:https://stjohnsbaptistchurch.org/event/weekday-school/2028-05-18/
LOCATION:300 Hawthorne Lane
CATEGORIES:Children,Main Calendar,St. Johns Baptist (General) - Miscellaneous
ATTACH;FMTTYPE=image/jpeg:https://stjohnsbaptistchurch.org/wp-content/uploads/2024/04/default-featured-image.jpg
END:VEVENT
BEGIN:VEVENT
DTSTART;TZID=America/New_York:20280519T080000
DTEND;TZID=America/New_York:20280519T143000
DTSTAMP:20260422T050956
CREATED:20250522T113122Z
LAST-MODIFIED:20250522T113122Z
UID:10012954-1842336000-1842359400@stjohnsbaptistchurch.org
SUMMARY:Weekday School
DESCRIPTION:
URL:https://stjohnsbaptistchurch.org/event/weekday-school/2028-05-19/
LOCATION:300 Hawthorne Lane
CATEGORIES:Children,Main Calendar,St. Johns Baptist (General) - Miscellaneous
ATTACH;FMTTYPE=image/jpeg:https://stjohnsbaptistchurch.org/wp-content/uploads/2024/04/default-featured-image.jpg
END:VEVENT
BEGIN:VEVENT
DTSTART;TZID=America/New_York:20280521T091500
DTEND;TZID=America/New_York:20280521T103000
DTSTAMP:20260422T050956
CREATED:20240409T211604Z
LAST-MODIFIED:20240409T211604Z
UID:10007945-1842513300-1842517800@stjohnsbaptistchurch.org
SUMMARY:Children's Sunday School Groups
DESCRIPTION:We currently have three different age-divided Sunday school classes for our children at St. John’s. \n\nNursery (infant – toddler) – Room 219\nElementary (1st – 5th grades) – Room 221\nPreschool (3 – end of Kindergarten) – Room 223
URL:https://stjohnsbaptistchurch.org/event/childrens-sunday-school-groups/2028-05-21/
CATEGORIES:Children,Main Calendar,St. Johns Baptist (General) - Miscellaneous,Sunday Growth Groups
ATTACH;FMTTYPE=image/png:https://stjohnsbaptistchurch.org/wp-content/uploads/2024/04/SJ-Event-Featured-Images-Website-6.png
END:VEVENT
BEGIN:VEVENT
DTSTART;TZID=America/New_York:20280522T080000
DTEND;TZID=America/New_York:20280522T143000
DTSTAMP:20260422T050956
CREATED:20250522T113122Z
LAST-MODIFIED:20250522T113122Z
UID:10012955-1842595200-1842618600@stjohnsbaptistchurch.org
SUMMARY:Weekday School
DESCRIPTION:
URL:https://stjohnsbaptistchurch.org/event/weekday-school/2028-05-22/
LOCATION:300 Hawthorne Lane
CATEGORIES:Children,Main Calendar,St. Johns Baptist (General) - Miscellaneous
ATTACH;FMTTYPE=image/jpeg:https://stjohnsbaptistchurch.org/wp-content/uploads/2024/04/default-featured-image.jpg
END:VEVENT
BEGIN:VEVENT
DTSTART;TZID=America/New_York:20280523T080000
DTEND;TZID=America/New_York:20280523T143000
DTSTAMP:20260422T050956
CREATED:20250522T113122Z
LAST-MODIFIED:20250522T113122Z
UID:10012956-1842681600-1842705000@stjohnsbaptistchurch.org
SUMMARY:Weekday School
DESCRIPTION:
URL:https://stjohnsbaptistchurch.org/event/weekday-school/2028-05-23/
LOCATION:300 Hawthorne Lane
CATEGORIES:Children,Main Calendar,St. Johns Baptist (General) - Miscellaneous
ATTACH;FMTTYPE=image/jpeg:https://stjohnsbaptistchurch.org/wp-content/uploads/2024/04/default-featured-image.jpg
END:VEVENT
BEGIN:VEVENT
DTSTART;TZID=America/New_York:20280524T080000
DTEND;TZID=America/New_York:20280524T143000
DTSTAMP:20260422T050956
CREATED:20250522T113122Z
LAST-MODIFIED:20250522T113122Z
UID:10012957-1842768000-1842791400@stjohnsbaptistchurch.org
SUMMARY:Weekday School
DESCRIPTION:
URL:https://stjohnsbaptistchurch.org/event/weekday-school/2028-05-24/
LOCATION:300 Hawthorne Lane
CATEGORIES:Children,Main Calendar,St. Johns Baptist (General) - Miscellaneous
ATTACH;FMTTYPE=image/jpeg:https://stjohnsbaptistchurch.org/wp-content/uploads/2024/04/default-featured-image.jpg
END:VEVENT
BEGIN:VEVENT
DTSTART;TZID=America/New_York:20280525T080000
DTEND;TZID=America/New_York:20280525T143000
DTSTAMP:20260422T050956
CREATED:20250522T113122Z
LAST-MODIFIED:20250522T113122Z
UID:10012958-1842854400-1842877800@stjohnsbaptistchurch.org
SUMMARY:Weekday School
DESCRIPTION:
URL:https://stjohnsbaptistchurch.org/event/weekday-school/2028-05-25/
LOCATION:300 Hawthorne Lane
CATEGORIES:Children,Main Calendar,St. Johns Baptist (General) - Miscellaneous
ATTACH;FMTTYPE=image/jpeg:https://stjohnsbaptistchurch.org/wp-content/uploads/2024/04/default-featured-image.jpg
END:VEVENT
BEGIN:VEVENT
DTSTART;TZID=America/New_York:20280526T080000
DTEND;TZID=America/New_York:20280526T143000
DTSTAMP:20260422T050956
CREATED:20250522T113122Z
LAST-MODIFIED:20250522T113122Z
UID:10012959-1842940800-1842964200@stjohnsbaptistchurch.org
SUMMARY:Weekday School
DESCRIPTION:
URL:https://stjohnsbaptistchurch.org/event/weekday-school/2028-05-26/
LOCATION:300 Hawthorne Lane
CATEGORIES:Children,Main Calendar,St. Johns Baptist (General) - Miscellaneous
ATTACH;FMTTYPE=image/jpeg:https://stjohnsbaptistchurch.org/wp-content/uploads/2024/04/default-featured-image.jpg
END:VEVENT
BEGIN:VEVENT
DTSTART;TZID=America/New_York:20280528T091500
DTEND;TZID=America/New_York:20280528T103000
DTSTAMP:20260422T050956
CREATED:20240409T211604Z
LAST-MODIFIED:20240409T211604Z
UID:10007946-1843118100-1843122600@stjohnsbaptistchurch.org
SUMMARY:Children's Sunday School Groups
DESCRIPTION:We currently have three different age-divided Sunday school classes for our children at St. John’s. \n\nNursery (infant – toddler) – Room 219\nElementary (1st – 5th grades) – Room 221\nPreschool (3 – end of Kindergarten) – Room 223
URL:https://stjohnsbaptistchurch.org/event/childrens-sunday-school-groups/2028-05-28/
CATEGORIES:Children,Main Calendar,St. Johns Baptist (General) - Miscellaneous,Sunday Growth Groups
ATTACH;FMTTYPE=image/png:https://stjohnsbaptistchurch.org/wp-content/uploads/2024/04/SJ-Event-Featured-Images-Website-6.png
END:VEVENT
BEGIN:VEVENT
DTSTART;TZID=America/New_York:20280529T080000
DTEND;TZID=America/New_York:20280529T143000
DTSTAMP:20260422T050956
CREATED:20250522T113122Z
LAST-MODIFIED:20250522T113122Z
UID:10012960-1843200000-1843223400@stjohnsbaptistchurch.org
SUMMARY:Weekday School
DESCRIPTION:
URL:https://stjohnsbaptistchurch.org/event/weekday-school/2028-05-29/
LOCATION:300 Hawthorne Lane
CATEGORIES:Children,Main Calendar,St. Johns Baptist (General) - Miscellaneous
ATTACH;FMTTYPE=image/jpeg:https://stjohnsbaptistchurch.org/wp-content/uploads/2024/04/default-featured-image.jpg
END:VEVENT
BEGIN:VEVENT
DTSTART;TZID=America/New_York:20280530T080000
DTEND;TZID=America/New_York:20280530T143000
DTSTAMP:20260422T050956
CREATED:20250522T113122Z
LAST-MODIFIED:20250522T113122Z
UID:10012961-1843286400-1843309800@stjohnsbaptistchurch.org
SUMMARY:Weekday School
DESCRIPTION:
URL:https://stjohnsbaptistchurch.org/event/weekday-school/2028-05-30/
LOCATION:300 Hawthorne Lane
CATEGORIES:Children,Main Calendar,St. Johns Baptist (General) - Miscellaneous
ATTACH;FMTTYPE=image/jpeg:https://stjohnsbaptistchurch.org/wp-content/uploads/2024/04/default-featured-image.jpg
END:VEVENT
BEGIN:VEVENT
DTSTART;TZID=America/New_York:20280531T080000
DTEND;TZID=America/New_York:20280531T143000
DTSTAMP:20260422T050956
CREATED:20250522T113122Z
LAST-MODIFIED:20250522T113122Z
UID:10012962-1843372800-1843396200@stjohnsbaptistchurch.org
SUMMARY:Weekday School
DESCRIPTION:
URL:https://stjohnsbaptistchurch.org/event/weekday-school/2028-05-31/
LOCATION:300 Hawthorne Lane
CATEGORIES:Children,Main Calendar,St. Johns Baptist (General) - Miscellaneous
ATTACH;FMTTYPE=image/jpeg:https://stjohnsbaptistchurch.org/wp-content/uploads/2024/04/default-featured-image.jpg
END:VEVENT
BEGIN:VEVENT
DTSTART;TZID=America/New_York:20280601T080000
DTEND;TZID=America/New_York:20280601T143000
DTSTAMP:20260422T050956
CREATED:20250522T113122Z
LAST-MODIFIED:20250522T113122Z
UID:10012963-1843459200-1843482600@stjohnsbaptistchurch.org
SUMMARY:Weekday School
DESCRIPTION:
URL:https://stjohnsbaptistchurch.org/event/weekday-school/2028-06-01/
LOCATION:300 Hawthorne Lane
CATEGORIES:Children,Main Calendar,St. Johns Baptist (General) - Miscellaneous
ATTACH;FMTTYPE=image/jpeg:https://stjohnsbaptistchurch.org/wp-content/uploads/2024/04/default-featured-image.jpg
END:VEVENT
BEGIN:VEVENT
DTSTART;TZID=America/New_York:20280602T080000
DTEND;TZID=America/New_York:20280602T143000
DTSTAMP:20260422T050956
CREATED:20250522T113122Z
LAST-MODIFIED:20250522T113122Z
UID:10012964-1843545600-1843569000@stjohnsbaptistchurch.org
SUMMARY:Weekday School
DESCRIPTION:
URL:https://stjohnsbaptistchurch.org/event/weekday-school/2028-06-02/
LOCATION:300 Hawthorne Lane
CATEGORIES:Children,Main Calendar,St. Johns Baptist (General) - Miscellaneous
ATTACH;FMTTYPE=image/jpeg:https://stjohnsbaptistchurch.org/wp-content/uploads/2024/04/default-featured-image.jpg
END:VEVENT
BEGIN:VEVENT
DTSTART;TZID=America/New_York:20280604T091500
DTEND;TZID=America/New_York:20280604T103000
DTSTAMP:20260422T050956
CREATED:20240409T211604Z
LAST-MODIFIED:20240409T211604Z
UID:10007947-1843722900-1843727400@stjohnsbaptistchurch.org
SUMMARY:Children's Sunday School Groups
DESCRIPTION:We currently have three different age-divided Sunday school classes for our children at St. John’s. \n\nNursery (infant – toddler) – Room 219\nElementary (1st – 5th grades) – Room 221\nPreschool (3 – end of Kindergarten) – Room 223
URL:https://stjohnsbaptistchurch.org/event/childrens-sunday-school-groups/2028-06-04/
CATEGORIES:Children,Main Calendar,St. Johns Baptist (General) - Miscellaneous,Sunday Growth Groups
ATTACH;FMTTYPE=image/png:https://stjohnsbaptistchurch.org/wp-content/uploads/2024/04/SJ-Event-Featured-Images-Website-6.png
END:VEVENT
BEGIN:VEVENT
DTSTART;TZID=America/New_York:20280605T080000
DTEND;TZID=America/New_York:20280605T143000
DTSTAMP:20260422T050956
CREATED:20250522T113122Z
LAST-MODIFIED:20250522T113122Z
UID:10012965-1843804800-1843828200@stjohnsbaptistchurch.org
SUMMARY:Weekday School
DESCRIPTION:
URL:https://stjohnsbaptistchurch.org/event/weekday-school/2028-06-05/
LOCATION:300 Hawthorne Lane
CATEGORIES:Children,Main Calendar,St. Johns Baptist (General) - Miscellaneous
ATTACH;FMTTYPE=image/jpeg:https://stjohnsbaptistchurch.org/wp-content/uploads/2024/04/default-featured-image.jpg
END:VEVENT
BEGIN:VEVENT
DTSTART;TZID=America/New_York:20280606T080000
DTEND;TZID=America/New_York:20280606T143000
DTSTAMP:20260422T050956
CREATED:20250522T113122Z
LAST-MODIFIED:20250522T113122Z
UID:10012966-1843891200-1843914600@stjohnsbaptistchurch.org
SUMMARY:Weekday School
DESCRIPTION:
URL:https://stjohnsbaptistchurch.org/event/weekday-school/2028-06-06/
LOCATION:300 Hawthorne Lane
CATEGORIES:Children,Main Calendar,St. Johns Baptist (General) - Miscellaneous
ATTACH;FMTTYPE=image/jpeg:https://stjohnsbaptistchurch.org/wp-content/uploads/2024/04/default-featured-image.jpg
END:VEVENT
BEGIN:VEVENT
DTSTART;TZID=America/New_York:20280607T080000
DTEND;TZID=America/New_York:20280607T143000
DTSTAMP:20260422T050956
CREATED:20250522T113122Z
LAST-MODIFIED:20250522T113122Z
UID:10012967-1843977600-1844001000@stjohnsbaptistchurch.org
SUMMARY:Weekday School
DESCRIPTION:
URL:https://stjohnsbaptistchurch.org/event/weekday-school/2028-06-07/
LOCATION:300 Hawthorne Lane
CATEGORIES:Children,Main Calendar,St. Johns Baptist (General) - Miscellaneous
ATTACH;FMTTYPE=image/jpeg:https://stjohnsbaptistchurch.org/wp-content/uploads/2024/04/default-featured-image.jpg
END:VEVENT
BEGIN:VEVENT
DTSTART;TZID=America/New_York:20280608T080000
DTEND;TZID=America/New_York:20280608T143000
DTSTAMP:20260422T050956
CREATED:20250522T113122Z
LAST-MODIFIED:20250522T113122Z
UID:10012968-1844064000-1844087400@stjohnsbaptistchurch.org
SUMMARY:Weekday School
DESCRIPTION:
URL:https://stjohnsbaptistchurch.org/event/weekday-school/2028-06-08/
LOCATION:300 Hawthorne Lane
CATEGORIES:Children,Main Calendar,St. Johns Baptist (General) - Miscellaneous
ATTACH;FMTTYPE=image/jpeg:https://stjohnsbaptistchurch.org/wp-content/uploads/2024/04/default-featured-image.jpg
END:VEVENT
BEGIN:VEVENT
DTSTART;TZID=America/New_York:20280609T080000
DTEND;TZID=America/New_York:20280609T143000
DTSTAMP:20260422T050956
CREATED:20250522T113122Z
LAST-MODIFIED:20250522T113122Z
UID:10012969-1844150400-1844173800@stjohnsbaptistchurch.org
SUMMARY:Weekday School
DESCRIPTION:
URL:https://stjohnsbaptistchurch.org/event/weekday-school/2028-06-09/
LOCATION:300 Hawthorne Lane
CATEGORIES:Children,Main Calendar,St. Johns Baptist (General) - Miscellaneous
ATTACH;FMTTYPE=image/jpeg:https://stjohnsbaptistchurch.org/wp-content/uploads/2024/04/default-featured-image.jpg
END:VEVENT
END:VCALENDAR