BEGIN:VCALENDAR
VERSION:2.0
PRODID:-//St. John's Baptist Church - ECPv6.15.7//NONSGML v1.0//EN
CALSCALE:GREGORIAN
METHOD:PUBLISH
X-WR-CALNAME:St. John's Baptist Church
X-ORIGINAL-URL:https://stjohnsbaptistchurch.org
X-WR-CALDESC:Events for St. John's Baptist Church
REFRESH-INTERVAL;VALUE=DURATION:PT1H
X-Robots-Tag:noindex
X-PUBLISHED-TTL:PT1H
BEGIN:VTIMEZONE
TZID:America/New_York
BEGIN:DAYLIGHT
TZOFFSETFROM:-0500
TZOFFSETTO:-0400
TZNAME:EDT
DTSTART:20270314T070000
END:DAYLIGHT
BEGIN:STANDARD
TZOFFSETFROM:-0400
TZOFFSETTO:-0500
TZNAME:EST
DTSTART:20271107T060000
END:STANDARD
BEGIN:DAYLIGHT
TZOFFSETFROM:-0500
TZOFFSETTO:-0400
TZNAME:EDT
DTSTART:20280312T070000
END:DAYLIGHT
BEGIN:STANDARD
TZOFFSETFROM:-0400
TZOFFSETTO:-0500
TZNAME:EST
DTSTART:20281105T060000
END:STANDARD
BEGIN:DAYLIGHT
TZOFFSETFROM:-0500
TZOFFSETTO:-0400
TZNAME:EDT
DTSTART:20290311T070000
END:DAYLIGHT
BEGIN:STANDARD
TZOFFSETFROM:-0400
TZOFFSETTO:-0500
TZNAME:EST
DTSTART:20291104T060000
END:STANDARD
END:VTIMEZONE
BEGIN:VEVENT
DTSTART;TZID=America/New_York:20280530T080000
DTEND;TZID=America/New_York:20280530T143000
DTSTAMP:20260422T075842
CREATED:20250522T113122Z
LAST-MODIFIED:20250522T113122Z
UID:10012961-1843286400-1843309800@stjohnsbaptistchurch.org
SUMMARY:Weekday School
DESCRIPTION:
URL:https://stjohnsbaptistchurch.org/event/weekday-school/2028-05-30/
LOCATION:300 Hawthorne Lane
CATEGORIES:Children,Main Calendar,St. Johns Baptist (General) - Miscellaneous
ATTACH;FMTTYPE=image/jpeg:https://stjohnsbaptistchurch.org/wp-content/uploads/2024/04/default-featured-image.jpg
END:VEVENT
BEGIN:VEVENT
DTSTART;TZID=America/New_York:20280531T080000
DTEND;TZID=America/New_York:20280531T143000
DTSTAMP:20260422T075842
CREATED:20250522T113122Z
LAST-MODIFIED:20250522T113122Z
UID:10012962-1843372800-1843396200@stjohnsbaptistchurch.org
SUMMARY:Weekday School
DESCRIPTION:
URL:https://stjohnsbaptistchurch.org/event/weekday-school/2028-05-31/
LOCATION:300 Hawthorne Lane
CATEGORIES:Children,Main Calendar,St. Johns Baptist (General) - Miscellaneous
ATTACH;FMTTYPE=image/jpeg:https://stjohnsbaptistchurch.org/wp-content/uploads/2024/04/default-featured-image.jpg
END:VEVENT
BEGIN:VEVENT
DTSTART;TZID=America/New_York:20280601T080000
DTEND;TZID=America/New_York:20280601T143000
DTSTAMP:20260422T075842
CREATED:20250522T113122Z
LAST-MODIFIED:20250522T113122Z
UID:10012963-1843459200-1843482600@stjohnsbaptistchurch.org
SUMMARY:Weekday School
DESCRIPTION:
URL:https://stjohnsbaptistchurch.org/event/weekday-school/2028-06-01/
LOCATION:300 Hawthorne Lane
CATEGORIES:Children,Main Calendar,St. Johns Baptist (General) - Miscellaneous
ATTACH;FMTTYPE=image/jpeg:https://stjohnsbaptistchurch.org/wp-content/uploads/2024/04/default-featured-image.jpg
END:VEVENT
BEGIN:VEVENT
DTSTART;TZID=America/New_York:20280602T080000
DTEND;TZID=America/New_York:20280602T143000
DTSTAMP:20260422T075842
CREATED:20250522T113122Z
LAST-MODIFIED:20250522T113122Z
UID:10012964-1843545600-1843569000@stjohnsbaptistchurch.org
SUMMARY:Weekday School
DESCRIPTION:
URL:https://stjohnsbaptistchurch.org/event/weekday-school/2028-06-02/
LOCATION:300 Hawthorne Lane
CATEGORIES:Children,Main Calendar,St. Johns Baptist (General) - Miscellaneous
ATTACH;FMTTYPE=image/jpeg:https://stjohnsbaptistchurch.org/wp-content/uploads/2024/04/default-featured-image.jpg
END:VEVENT
BEGIN:VEVENT
DTSTART;TZID=America/New_York:20280604T091500
DTEND;TZID=America/New_York:20280604T103000
DTSTAMP:20260422T075842
CREATED:20240409T211604Z
LAST-MODIFIED:20240409T211604Z
UID:10007947-1843722900-1843727400@stjohnsbaptistchurch.org
SUMMARY:Children's Sunday School Groups
DESCRIPTION:We currently have three different age-divided Sunday school classes for our children at St. John’s. \n\nNursery (infant – toddler) – Room 219\nElementary (1st – 5th grades) – Room 221\nPreschool (3 – end of Kindergarten) – Room 223
URL:https://stjohnsbaptistchurch.org/event/childrens-sunday-school-groups/2028-06-04/
CATEGORIES:Children,Main Calendar,St. Johns Baptist (General) - Miscellaneous,Sunday Growth Groups
ATTACH;FMTTYPE=image/png:https://stjohnsbaptistchurch.org/wp-content/uploads/2024/04/SJ-Event-Featured-Images-Website-6.png
END:VEVENT
BEGIN:VEVENT
DTSTART;TZID=America/New_York:20280605T080000
DTEND;TZID=America/New_York:20280605T143000
DTSTAMP:20260422T075842
CREATED:20250522T113122Z
LAST-MODIFIED:20250522T113122Z
UID:10012965-1843804800-1843828200@stjohnsbaptistchurch.org
SUMMARY:Weekday School
DESCRIPTION:
URL:https://stjohnsbaptistchurch.org/event/weekday-school/2028-06-05/
LOCATION:300 Hawthorne Lane
CATEGORIES:Children,Main Calendar,St. Johns Baptist (General) - Miscellaneous
ATTACH;FMTTYPE=image/jpeg:https://stjohnsbaptistchurch.org/wp-content/uploads/2024/04/default-featured-image.jpg
END:VEVENT
BEGIN:VEVENT
DTSTART;TZID=America/New_York:20280606T080000
DTEND;TZID=America/New_York:20280606T143000
DTSTAMP:20260422T075842
CREATED:20250522T113122Z
LAST-MODIFIED:20250522T113122Z
UID:10012966-1843891200-1843914600@stjohnsbaptistchurch.org
SUMMARY:Weekday School
DESCRIPTION:
URL:https://stjohnsbaptistchurch.org/event/weekday-school/2028-06-06/
LOCATION:300 Hawthorne Lane
CATEGORIES:Children,Main Calendar,St. Johns Baptist (General) - Miscellaneous
ATTACH;FMTTYPE=image/jpeg:https://stjohnsbaptistchurch.org/wp-content/uploads/2024/04/default-featured-image.jpg
END:VEVENT
BEGIN:VEVENT
DTSTART;TZID=America/New_York:20280607T080000
DTEND;TZID=America/New_York:20280607T143000
DTSTAMP:20260422T075842
CREATED:20250522T113122Z
LAST-MODIFIED:20250522T113122Z
UID:10012967-1843977600-1844001000@stjohnsbaptistchurch.org
SUMMARY:Weekday School
DESCRIPTION:
URL:https://stjohnsbaptistchurch.org/event/weekday-school/2028-06-07/
LOCATION:300 Hawthorne Lane
CATEGORIES:Children,Main Calendar,St. Johns Baptist (General) - Miscellaneous
ATTACH;FMTTYPE=image/jpeg:https://stjohnsbaptistchurch.org/wp-content/uploads/2024/04/default-featured-image.jpg
END:VEVENT
BEGIN:VEVENT
DTSTART;TZID=America/New_York:20280608T080000
DTEND;TZID=America/New_York:20280608T143000
DTSTAMP:20260422T075842
CREATED:20250522T113122Z
LAST-MODIFIED:20250522T113122Z
UID:10012968-1844064000-1844087400@stjohnsbaptistchurch.org
SUMMARY:Weekday School
DESCRIPTION:
URL:https://stjohnsbaptistchurch.org/event/weekday-school/2028-06-08/
LOCATION:300 Hawthorne Lane
CATEGORIES:Children,Main Calendar,St. Johns Baptist (General) - Miscellaneous
ATTACH;FMTTYPE=image/jpeg:https://stjohnsbaptistchurch.org/wp-content/uploads/2024/04/default-featured-image.jpg
END:VEVENT
BEGIN:VEVENT
DTSTART;TZID=America/New_York:20280609T080000
DTEND;TZID=America/New_York:20280609T143000
DTSTAMP:20260422T075842
CREATED:20250522T113122Z
LAST-MODIFIED:20250522T113122Z
UID:10012969-1844150400-1844173800@stjohnsbaptistchurch.org
SUMMARY:Weekday School
DESCRIPTION:
URL:https://stjohnsbaptistchurch.org/event/weekday-school/2028-06-09/
LOCATION:300 Hawthorne Lane
CATEGORIES:Children,Main Calendar,St. Johns Baptist (General) - Miscellaneous
ATTACH;FMTTYPE=image/jpeg:https://stjohnsbaptistchurch.org/wp-content/uploads/2024/04/default-featured-image.jpg
END:VEVENT
BEGIN:VEVENT
DTSTART;TZID=America/New_York:20280611T091500
DTEND;TZID=America/New_York:20280611T103000
DTSTAMP:20260422T075842
CREATED:20240409T211604Z
LAST-MODIFIED:20240409T211604Z
UID:10007948-1844327700-1844332200@stjohnsbaptistchurch.org
SUMMARY:Children's Sunday School Groups
DESCRIPTION:We currently have three different age-divided Sunday school classes for our children at St. John’s. \n\nNursery (infant – toddler) – Room 219\nElementary (1st – 5th grades) – Room 221\nPreschool (3 – end of Kindergarten) – Room 223
URL:https://stjohnsbaptistchurch.org/event/childrens-sunday-school-groups/2028-06-11/
CATEGORIES:Children,Main Calendar,St. Johns Baptist (General) - Miscellaneous,Sunday Growth Groups
ATTACH;FMTTYPE=image/png:https://stjohnsbaptistchurch.org/wp-content/uploads/2024/04/SJ-Event-Featured-Images-Website-6.png
END:VEVENT
BEGIN:VEVENT
DTSTART;TZID=America/New_York:20280612T080000
DTEND;TZID=America/New_York:20280612T143000
DTSTAMP:20260422T075842
CREATED:20250522T113122Z
LAST-MODIFIED:20250522T113122Z
UID:10012970-1844409600-1844433000@stjohnsbaptistchurch.org
SUMMARY:Weekday School
DESCRIPTION:
URL:https://stjohnsbaptistchurch.org/event/weekday-school/2028-06-12/
LOCATION:300 Hawthorne Lane
CATEGORIES:Children,Main Calendar,St. Johns Baptist (General) - Miscellaneous
ATTACH;FMTTYPE=image/jpeg:https://stjohnsbaptistchurch.org/wp-content/uploads/2024/04/default-featured-image.jpg
END:VEVENT
BEGIN:VEVENT
DTSTART;TZID=America/New_York:20280613T080000
DTEND;TZID=America/New_York:20280613T143000
DTSTAMP:20260422T075842
CREATED:20250522T113122Z
LAST-MODIFIED:20250522T113122Z
UID:10012971-1844496000-1844519400@stjohnsbaptistchurch.org
SUMMARY:Weekday School
DESCRIPTION:
URL:https://stjohnsbaptistchurch.org/event/weekday-school/2028-06-13/
LOCATION:300 Hawthorne Lane
CATEGORIES:Children,Main Calendar,St. Johns Baptist (General) - Miscellaneous
ATTACH;FMTTYPE=image/jpeg:https://stjohnsbaptistchurch.org/wp-content/uploads/2024/04/default-featured-image.jpg
END:VEVENT
BEGIN:VEVENT
DTSTART;TZID=America/New_York:20280614T080000
DTEND;TZID=America/New_York:20280614T143000
DTSTAMP:20260422T075842
CREATED:20250522T113122Z
LAST-MODIFIED:20250522T113122Z
UID:10012972-1844582400-1844605800@stjohnsbaptistchurch.org
SUMMARY:Weekday School
DESCRIPTION:
URL:https://stjohnsbaptistchurch.org/event/weekday-school/2028-06-14/
LOCATION:300 Hawthorne Lane
CATEGORIES:Children,Main Calendar,St. Johns Baptist (General) - Miscellaneous
ATTACH;FMTTYPE=image/jpeg:https://stjohnsbaptistchurch.org/wp-content/uploads/2024/04/default-featured-image.jpg
END:VEVENT
BEGIN:VEVENT
DTSTART;TZID=America/New_York:20280615T080000
DTEND;TZID=America/New_York:20280615T143000
DTSTAMP:20260422T075842
CREATED:20250522T113122Z
LAST-MODIFIED:20250522T113122Z
UID:10012973-1844668800-1844692200@stjohnsbaptistchurch.org
SUMMARY:Weekday School
DESCRIPTION:
URL:https://stjohnsbaptistchurch.org/event/weekday-school/2028-06-15/
LOCATION:300 Hawthorne Lane
CATEGORIES:Children,Main Calendar,St. Johns Baptist (General) - Miscellaneous
ATTACH;FMTTYPE=image/jpeg:https://stjohnsbaptistchurch.org/wp-content/uploads/2024/04/default-featured-image.jpg
END:VEVENT
BEGIN:VEVENT
DTSTART;TZID=America/New_York:20280616T080000
DTEND;TZID=America/New_York:20280616T143000
DTSTAMP:20260422T075842
CREATED:20250522T113122Z
LAST-MODIFIED:20250522T113122Z
UID:10012974-1844755200-1844778600@stjohnsbaptistchurch.org
SUMMARY:Weekday School
DESCRIPTION:
URL:https://stjohnsbaptistchurch.org/event/weekday-school/2028-06-16/
LOCATION:300 Hawthorne Lane
CATEGORIES:Children,Main Calendar,St. Johns Baptist (General) - Miscellaneous
ATTACH;FMTTYPE=image/jpeg:https://stjohnsbaptistchurch.org/wp-content/uploads/2024/04/default-featured-image.jpg
END:VEVENT
BEGIN:VEVENT
DTSTART;TZID=America/New_York:20280618T091500
DTEND;TZID=America/New_York:20280618T103000
DTSTAMP:20260422T075842
CREATED:20240409T211604Z
LAST-MODIFIED:20240409T211604Z
UID:10007949-1844932500-1844937000@stjohnsbaptistchurch.org
SUMMARY:Children's Sunday School Groups
DESCRIPTION:We currently have three different age-divided Sunday school classes for our children at St. John’s. \n\nNursery (infant – toddler) – Room 219\nElementary (1st – 5th grades) – Room 221\nPreschool (3 – end of Kindergarten) – Room 223
URL:https://stjohnsbaptistchurch.org/event/childrens-sunday-school-groups/2028-06-18/
CATEGORIES:Children,Main Calendar,St. Johns Baptist (General) - Miscellaneous,Sunday Growth Groups
ATTACH;FMTTYPE=image/png:https://stjohnsbaptistchurch.org/wp-content/uploads/2024/04/SJ-Event-Featured-Images-Website-6.png
END:VEVENT
BEGIN:VEVENT
DTSTART;TZID=America/New_York:20280619T080000
DTEND;TZID=America/New_York:20280619T143000
DTSTAMP:20260422T075842
CREATED:20250522T113122Z
LAST-MODIFIED:20250522T113122Z
UID:10012975-1845014400-1845037800@stjohnsbaptistchurch.org
SUMMARY:Weekday School
DESCRIPTION:
URL:https://stjohnsbaptistchurch.org/event/weekday-school/2028-06-19/
LOCATION:300 Hawthorne Lane
CATEGORIES:Children,Main Calendar,St. Johns Baptist (General) - Miscellaneous
ATTACH;FMTTYPE=image/jpeg:https://stjohnsbaptistchurch.org/wp-content/uploads/2024/04/default-featured-image.jpg
END:VEVENT
BEGIN:VEVENT
DTSTART;TZID=America/New_York:20280620T080000
DTEND;TZID=America/New_York:20280620T143000
DTSTAMP:20260422T075842
CREATED:20250522T113122Z
LAST-MODIFIED:20250522T113122Z
UID:10012976-1845100800-1845124200@stjohnsbaptistchurch.org
SUMMARY:Weekday School
DESCRIPTION:
URL:https://stjohnsbaptistchurch.org/event/weekday-school/2028-06-20/
LOCATION:300 Hawthorne Lane
CATEGORIES:Children,Main Calendar,St. Johns Baptist (General) - Miscellaneous
ATTACH;FMTTYPE=image/jpeg:https://stjohnsbaptistchurch.org/wp-content/uploads/2024/04/default-featured-image.jpg
END:VEVENT
BEGIN:VEVENT
DTSTART;TZID=America/New_York:20280621T080000
DTEND;TZID=America/New_York:20280621T143000
DTSTAMP:20260422T075842
CREATED:20250522T113122Z
LAST-MODIFIED:20250522T113122Z
UID:10012977-1845187200-1845210600@stjohnsbaptistchurch.org
SUMMARY:Weekday School
DESCRIPTION:
URL:https://stjohnsbaptistchurch.org/event/weekday-school/2028-06-21/
LOCATION:300 Hawthorne Lane
CATEGORIES:Children,Main Calendar,St. Johns Baptist (General) - Miscellaneous
ATTACH;FMTTYPE=image/jpeg:https://stjohnsbaptistchurch.org/wp-content/uploads/2024/04/default-featured-image.jpg
END:VEVENT
BEGIN:VEVENT
DTSTART;TZID=America/New_York:20280622T080000
DTEND;TZID=America/New_York:20280622T143000
DTSTAMP:20260422T075842
CREATED:20250522T113122Z
LAST-MODIFIED:20250522T113122Z
UID:10012978-1845273600-1845297000@stjohnsbaptistchurch.org
SUMMARY:Weekday School
DESCRIPTION:
URL:https://stjohnsbaptistchurch.org/event/weekday-school/2028-06-22/
LOCATION:300 Hawthorne Lane
CATEGORIES:Children,Main Calendar,St. Johns Baptist (General) - Miscellaneous
ATTACH;FMTTYPE=image/jpeg:https://stjohnsbaptistchurch.org/wp-content/uploads/2024/04/default-featured-image.jpg
END:VEVENT
BEGIN:VEVENT
DTSTART;TZID=America/New_York:20280623T080000
DTEND;TZID=America/New_York:20280623T143000
DTSTAMP:20260422T075842
CREATED:20250522T113122Z
LAST-MODIFIED:20250522T113122Z
UID:10012979-1845360000-1845383400@stjohnsbaptistchurch.org
SUMMARY:Weekday School
DESCRIPTION:
URL:https://stjohnsbaptistchurch.org/event/weekday-school/2028-06-23/
LOCATION:300 Hawthorne Lane
CATEGORIES:Children,Main Calendar,St. Johns Baptist (General) - Miscellaneous
ATTACH;FMTTYPE=image/jpeg:https://stjohnsbaptistchurch.org/wp-content/uploads/2024/04/default-featured-image.jpg
END:VEVENT
BEGIN:VEVENT
DTSTART;TZID=America/New_York:20280625T091500
DTEND;TZID=America/New_York:20280625T103000
DTSTAMP:20260422T075842
CREATED:20240409T211604Z
LAST-MODIFIED:20240409T211604Z
UID:10007950-1845537300-1845541800@stjohnsbaptistchurch.org
SUMMARY:Children's Sunday School Groups
DESCRIPTION:We currently have three different age-divided Sunday school classes for our children at St. John’s. \n\nNursery (infant – toddler) – Room 219\nElementary (1st – 5th grades) – Room 221\nPreschool (3 – end of Kindergarten) – Room 223
URL:https://stjohnsbaptistchurch.org/event/childrens-sunday-school-groups/2028-06-25/
CATEGORIES:Children,Main Calendar,St. Johns Baptist (General) - Miscellaneous,Sunday Growth Groups
ATTACH;FMTTYPE=image/png:https://stjohnsbaptistchurch.org/wp-content/uploads/2024/04/SJ-Event-Featured-Images-Website-6.png
END:VEVENT
BEGIN:VEVENT
DTSTART;TZID=America/New_York:20280626T080000
DTEND;TZID=America/New_York:20280626T143000
DTSTAMP:20260422T075842
CREATED:20250522T113122Z
LAST-MODIFIED:20250522T113122Z
UID:10012980-1845619200-1845642600@stjohnsbaptistchurch.org
SUMMARY:Weekday School
DESCRIPTION:
URL:https://stjohnsbaptistchurch.org/event/weekday-school/2028-06-26/
LOCATION:300 Hawthorne Lane
CATEGORIES:Children,Main Calendar,St. Johns Baptist (General) - Miscellaneous
ATTACH;FMTTYPE=image/jpeg:https://stjohnsbaptistchurch.org/wp-content/uploads/2024/04/default-featured-image.jpg
END:VEVENT
BEGIN:VEVENT
DTSTART;TZID=America/New_York:20280627T080000
DTEND;TZID=America/New_York:20280627T143000
DTSTAMP:20260422T075842
CREATED:20250522T113122Z
LAST-MODIFIED:20250522T113122Z
UID:10012981-1845705600-1845729000@stjohnsbaptistchurch.org
SUMMARY:Weekday School
DESCRIPTION:
URL:https://stjohnsbaptistchurch.org/event/weekday-school/2028-06-27/
LOCATION:300 Hawthorne Lane
CATEGORIES:Children,Main Calendar,St. Johns Baptist (General) - Miscellaneous
ATTACH;FMTTYPE=image/jpeg:https://stjohnsbaptistchurch.org/wp-content/uploads/2024/04/default-featured-image.jpg
END:VEVENT
BEGIN:VEVENT
DTSTART;TZID=America/New_York:20280628T080000
DTEND;TZID=America/New_York:20280628T143000
DTSTAMP:20260422T075842
CREATED:20250522T113122Z
LAST-MODIFIED:20250522T113122Z
UID:10012982-1845792000-1845815400@stjohnsbaptistchurch.org
SUMMARY:Weekday School
DESCRIPTION:
URL:https://stjohnsbaptistchurch.org/event/weekday-school/2028-06-28/
LOCATION:300 Hawthorne Lane
CATEGORIES:Children,Main Calendar,St. Johns Baptist (General) - Miscellaneous
ATTACH;FMTTYPE=image/jpeg:https://stjohnsbaptistchurch.org/wp-content/uploads/2024/04/default-featured-image.jpg
END:VEVENT
BEGIN:VEVENT
DTSTART;TZID=America/New_York:20280629T080000
DTEND;TZID=America/New_York:20280629T143000
DTSTAMP:20260422T075842
CREATED:20250522T113122Z
LAST-MODIFIED:20250522T113122Z
UID:10012983-1845878400-1845901800@stjohnsbaptistchurch.org
SUMMARY:Weekday School
DESCRIPTION:
URL:https://stjohnsbaptistchurch.org/event/weekday-school/2028-06-29/
LOCATION:300 Hawthorne Lane
CATEGORIES:Children,Main Calendar,St. Johns Baptist (General) - Miscellaneous
ATTACH;FMTTYPE=image/jpeg:https://stjohnsbaptistchurch.org/wp-content/uploads/2024/04/default-featured-image.jpg
END:VEVENT
BEGIN:VEVENT
DTSTART;TZID=America/New_York:20280630T080000
DTEND;TZID=America/New_York:20280630T143000
DTSTAMP:20260422T075842
CREATED:20250522T113122Z
LAST-MODIFIED:20250522T113122Z
UID:10012984-1845964800-1845988200@stjohnsbaptistchurch.org
SUMMARY:Weekday School
DESCRIPTION:
URL:https://stjohnsbaptistchurch.org/event/weekday-school/2028-06-30/
LOCATION:300 Hawthorne Lane
CATEGORIES:Children,Main Calendar,St. Johns Baptist (General) - Miscellaneous
ATTACH;FMTTYPE=image/jpeg:https://stjohnsbaptistchurch.org/wp-content/uploads/2024/04/default-featured-image.jpg
END:VEVENT
BEGIN:VEVENT
DTSTART;TZID=America/New_York:20280702T091500
DTEND;TZID=America/New_York:20280702T103000
DTSTAMP:20260422T075843
CREATED:20240409T211604Z
LAST-MODIFIED:20240409T211604Z
UID:10007951-1846142100-1846146600@stjohnsbaptistchurch.org
SUMMARY:Children's Sunday School Groups
DESCRIPTION:We currently have three different age-divided Sunday school classes for our children at St. John’s. \n\nNursery (infant – toddler) – Room 219\nElementary (1st – 5th grades) – Room 221\nPreschool (3 – end of Kindergarten) – Room 223
URL:https://stjohnsbaptistchurch.org/event/childrens-sunday-school-groups/2028-07-02/
CATEGORIES:Children,Main Calendar,St. Johns Baptist (General) - Miscellaneous,Sunday Growth Groups
ATTACH;FMTTYPE=image/png:https://stjohnsbaptistchurch.org/wp-content/uploads/2024/04/SJ-Event-Featured-Images-Website-6.png
END:VEVENT
BEGIN:VEVENT
DTSTART;TZID=America/New_York:20280703T080000
DTEND;TZID=America/New_York:20280703T143000
DTSTAMP:20260422T075843
CREATED:20250522T113122Z
LAST-MODIFIED:20250522T113122Z
UID:10012985-1846224000-1846247400@stjohnsbaptistchurch.org
SUMMARY:Weekday School
DESCRIPTION:
URL:https://stjohnsbaptistchurch.org/event/weekday-school/2028-07-03/
LOCATION:300 Hawthorne Lane
CATEGORIES:Children,Main Calendar,St. Johns Baptist (General) - Miscellaneous
ATTACH;FMTTYPE=image/jpeg:https://stjohnsbaptistchurch.org/wp-content/uploads/2024/04/default-featured-image.jpg
END:VEVENT
END:VCALENDAR